BEGIN:VCALENDAR
VERSION:2.0
PRODID:-//ChamberMaster//Event Calendar 2.0//EN
METHOD:PUBLISH
X-PUBLISHED-TTL:P3D
REFRESH-INTERVAL:P3D
CALSCALE:GREGORIAN
BEGIN:VEVENT
DTSTART:20210929T130000Z
DTEND:20210929T150000Z
X-MICROSOFT-CDO-ALLDAYEVENT:FALSE
SUMMARY:SBDC Virtual Training- Google for Business
DESCRIPTION:Learn the steps needed to create a Google Business Page that will allow your business to be listed & seen in Google Search. Go through the tools Google Business has to offer Small Businesses! Explore what all is available through Google!
X-ALT-DESC;FMTTYPE=text/html:<p style="margin: 0px 0px 18px\; padding: 0px\; font-family: Arial\, Helvetica\, sans-serif\; font-size: 12px\;"><span style="font-family: Arial\, Helvetica\, sans-serif\; font-size: 12px\; background-color: rgb(246\, 246\, 246)\;">Learn the steps needed to create a Google Business Page that will allow your business to be listed &amp\; seen in Google Search. Go through the tools Google Business has to offer Small Businesses! Explore what all is available through Google!</span></p>\n
LOCATION:Virtual Training- Register here!
UID:e.1451.15452
SEQUENCE:3
DTSTAMP:20260424T061353Z
URL:https://business.pickeringtonchamber.com/events/details/sbdc-virtual-training-google-for-business-15452
END:VEVENT

END:VCALENDAR
