BEGIN:VCALENDAR
VERSION:2.0
PRODID:-//ChamberMaster//Event Calendar 2.0//EN
METHOD:PUBLISH
X-PUBLISHED-TTL:P3D
REFRESH-INTERVAL:P3D
CALSCALE:GREGORIAN
BEGIN:VEVENT
DTSTART:20210908T130000Z
DTEND:20210908T143000Z
X-MICROSOFT-CDO-ALLDAYEVENT:FALSE
SUMMARY:SBDC Virtual Training- Does My Company Need a New Website?
DESCRIPTION:During our time together we will look at those of you who have exhausted social media & think you need a website to hit the next level of your company's growth. We will discuss the fundamentals of a strong website structure. We are also going to provide guidance for those who have an existing website.
X-ALT-DESC;FMTTYPE=text/html:<span style="font-size:14px\;"><span style="font-family: Arial\, Helvetica\, sans-serif\; background-color: rgb(246\, 246\, 246)\;">During our time together we will look at those of you who have exhausted social media &amp\; think you need a website to hit the next level of your company&#39\;s growth. We will discuss the fundamentals of a strong website structure. We are also going to provide guidance for those who have an existing website.</span></span>
LOCATION:Virtual Training- Register here!
UID:e.1451.15436
SEQUENCE:3
DTSTAMP:20260424T062033Z
URL:https://business.pickeringtonchamber.com/events/details/sbdc-virtual-training-does-my-company-need-a-new-website-15436
END:VEVENT

END:VCALENDAR
