BEGIN:VCALENDAR
VERSION:2.0
PRODID:-//ChamberMaster//Event Calendar 2.0//EN
METHOD:PUBLISH
X-PUBLISHED-TTL:P3D
REFRESH-INTERVAL:P3D
CALSCALE:GREGORIAN
BEGIN:VEVENT
DTSTART:20210915T130000Z
DTEND:20210915T150000Z
X-MICROSOFT-CDO-ALLDAYEVENT:FALSE
SUMMARY:SBDC Virtual Training- Canva for Social Media
DESCRIPTION:Learn the tricks to create Social Media posts using Canva! Get a tour of Canva & it's many tools. Learn how to create quick & professional looking social media graphics that can be used on all platforms!
X-ALT-DESC;FMTTYPE=text/html:<p style="margin: 0px 0px 18px\; padding: 0px\; font-family: Arial\, Helvetica\, sans-serif\; font-size: 12px\;"><span style="font-family: Arial\, Helvetica\, sans-serif\; font-size: 12px\; background-color: rgb(246\, 246\, 246)\;">Learn the tricks to create Social Media posts using Canva! Get a tour of Canva &amp\; it&#39\;s many tools. Learn how to create quick &amp\; professional looking social media graphics that can be used on all platforms!</span></p>\n
LOCATION:Virtual Training- Register here!
UID:e.1451.15443
SEQUENCE:3
DTSTAMP:20260424T044659Z
URL:https://business.pickeringtonchamber.com/events/details/sbdc-virtual-training-canva-for-social-media-15443
END:VEVENT

END:VCALENDAR
