BEGIN:VCALENDAR
VERSION:2.0
PRODID:-//ChamberMaster//Event Calendar 2.0//EN
METHOD:PUBLISH
X-PUBLISHED-TTL:P3D
REFRESH-INTERVAL:P3D
CALSCALE:GREGORIAN
BEGIN:VEVENT
DTSTART:20210914T160000Z
DTEND:20210914T180000Z
X-MICROSOFT-CDO-ALLDAYEVENT:FALSE
SUMMARY:SBDC Virtual Training- Basis of a Successful Start Class
DESCRIPTION:In this no-cost 2-hour training\, participants will learn: -Types of ownership -Licensing -Tax Requirements -Sources of financing -Identifying your customer -How to market your product or service
X-ALT-DESC;FMTTYPE=text/html:<p style="margin: 0px 0px 18px\; padding: 0px\; font-family: Arial\, Helvetica\, sans-serif\; font-size: 12px\;"><span style="font-size:14px\;">In this no-cost 2-hour training\, participants will learn: -Types of ownership -Licensing -Tax Requirements -Sources of financing -Identifying your customer -How to market your product or service</span></p>\n\n<div data-reg-preview="{&quot\;inPreviewMode&quot\;:false\,&quot\;previewType&quot\;:null}" id="reg-preview-message" style="margin: 0px\; padding: 0px\; font-family: Arial\, Helvetica\, sans-serif\; font-size: 12px\;">&nbsp\;</div>\n\n<div id="reg_form" style="margin: 0px\; padding: 0px\; overflow: visible\;">\n<div class="right_col" style="margin: 0px\; padding: 0px\;">&nbsp\;</div>\n</div>\n
LOCATION:Virtual Training- Register here!
UID:e.1451.15440
SEQUENCE:3
DTSTAMP:20260424T044237Z
URL:https://business.pickeringtonchamber.com/events/details/sbdc-virtual-training-basis-of-a-successful-start-class-15440
END:VEVENT

END:VCALENDAR
