BEGIN:VCALENDAR
VERSION:2.0
PRODID:-//ChamberMaster//Event Calendar 2.0//EN
METHOD:PUBLISH
X-PUBLISHED-TTL:P3D
REFRESH-INTERVAL:P3D
CALSCALE:GREGORIAN
BEGIN:VEVENT
DTSTART:20210910T130000Z
DTEND:20210910T160000Z
X-MICROSOFT-CDO-ALLDAYEVENT:FALSE
SUMMARY:SBDC Virtual Training- Basic Personal and Business Tax Return Analysis
DESCRIPTION:Gain an understanding of the often complex & confusing topic of TAXES! Small business owners need to know the basics of tax return analysis including tax forms\, cash flow analysis\, tax strategies\, and updates to the tax code. The 1st part of this webinar will concentrate on personal tax return analysis while the 2nd focuses on business returns
X-ALT-DESC;FMTTYPE=text/html:<span style="font-family: Arial\, Helvetica\, sans-serif\; font-size: 12px\; background-color: rgb(246\, 246\, 246)\;">Gain an understanding of the often complex &amp\; confusing topic of TAXES! Small business owners need to know the basics of tax return analysis including tax forms\, cash flow analysis\, tax strategies\, and updates to the tax code. The 1st part of this webinar will concentrate on personal tax return analysis while the 2nd focuses on business returns</span>
LOCATION:Virtual Training- Register here!
UID:e.1451.15439
SEQUENCE:3
DTSTAMP:20260424T044237Z
URL:https://business.pickeringtonchamber.com/events/details/sbdc-virtual-training-basic-personal-and-business-tax-return-analysis-15439
END:VEVENT

END:VCALENDAR
