BEGIN:VCALENDAR
VERSION:2.0
PRODID:-//ChamberMaster//Event Calendar 2.0//EN
METHOD:PUBLISH
X-PUBLISHED-TTL:P3D
REFRESH-INTERVAL:P3D
CALSCALE:GREGORIAN
BEGIN:VEVENT
DTSTART:20210922T130000Z
DTEND:20210922T143000Z
X-MICROSOFT-CDO-ALLDAYEVENT:FALSE
SUMMARY:SBDC Virtual Training- Avoid Common Mistakes When Building Your Website!
DESCRIPTION:In this class\, we will take a tour through common mistakes made & discuss how to steer clear. From there\, we'll move on to best practices to adopt to ensure your new website is a success! A critical part of having an effective website is the preplanning required of the business.
X-ALT-DESC;FMTTYPE=text/html:<p style="margin: 0px 0px 18px\; padding: 0px\; font-family: Arial\, Helvetica\, sans-serif\; font-size: 12px\;"><span style="font-family: Arial\, Helvetica\, sans-serif\; font-size: 12px\; background-color: rgb(246\, 246\, 246)\;">In this class\, we will take a tour through common mistakes made &amp\; discuss how to steer clear. From there\, we&#39\;ll move on to best practices to adopt to ensure your new website is a success! A critical part of having an effective website is the preplanning required of the business.</span></p>\n
LOCATION:Virtual Training- Register here!
UID:e.1451.15448
SEQUENCE:3
DTSTAMP:20260424T044325Z
URL:https://business.pickeringtonchamber.com/events/details/sbdc-virtual-training-avoid-common-mistakes-when-building-your-website-15448
END:VEVENT

END:VCALENDAR
