BEGIN:VCALENDAR
VERSION:2.0
PRODID:-//ChamberMaster//Event Calendar 2.0//EN
METHOD:PUBLISH
X-PUBLISHED-TTL:P3D
REFRESH-INTERVAL:P3D
CALSCALE:GREGORIAN
BEGIN:VEVENT
DTSTART:20210907T140000Z
DTEND:20210907T153000Z
X-MICROSOFT-CDO-ALLDAYEVENT:FALSE
SUMMARY:SBDC Virtual Training- Accounting for Small Businesses
DESCRIPTION:This training session will provide the Small Business Owner with the "basic/refresher" of accounting. The session will demonstrate how the income statement\, statement of owner's equity\, balance sheet\, and statement of cash flows are developed & connect to each other.
X-ALT-DESC;FMTTYPE=text/html:<span style="font-size:14px\;"><span style="font-family: Arial\, Helvetica\, sans-serif\; background-color: rgb(246\, 246\, 246)\;">This training session will provide the Small Business Owner with the &quot\;basic/refresher&quot\; of accounting. The session will demonstrate how the income statement\, statement of owner&#39\;s equity\, balance sheet\, and statement of cash flows are developed &amp\; connect to each other.</span></span>
LOCATION:Virtual Training- Register here!
UID:e.1451.15435
SEQUENCE:3
DTSTAMP:20260424T044834Z
URL:https://business.pickeringtonchamber.com/events/details/sbdc-virtual-training-accounting-for-small-businesses-15435
END:VEVENT

END:VCALENDAR
