BEGIN:VCALENDAR
VERSION:2.0
PRODID:-//ChamberMaster//Event Calendar 2.0//EN
METHOD:PUBLISH
X-PUBLISHED-TTL:P3D
REFRESH-INTERVAL:P3D
CALSCALE:GREGORIAN
BEGIN:VEVENT
DTSTART:20210920T140000Z
DTEND:20210920T153000Z
X-MICROSOFT-CDO-ALLDAYEVENT:FALSE
SUMMARY:SBDC Virtual Training- 3 Keys to Success: Marketing\, Financing & Management
DESCRIPTION:This training session will provide the Small Business Owner with the 3 keys to success for any small business-Marketing\, Financing & Management. The session will also emphasize how a small business owner can use the 3 keys to success model in better managing their team.
X-ALT-DESC;FMTTYPE=text/html:<span style="font-size:14px\;"><span style="font-family: Arial\, Helvetica\, sans-serif\; background-color: rgb(246\, 246\, 246)\;">This training session will provide the Small Business Owner with the 3 keys to success for any small business-Marketing\, Financing &amp\; Management. The session will also emphasize how a small business owner can use the 3 keys to success model in better managing their team.</span></span>
LOCATION:Virtual Training- Register here!
UID:e.1451.15445
SEQUENCE:3
DTSTAMP:20260424T045748Z
URL:https://business.pickeringtonchamber.com/events/details/sbdc-virtual-training-3-keys-to-success-marketing-financing-management-15445
END:VEVENT

END:VCALENDAR
