BEGIN:VCALENDAR
VERSION:2.0
PRODID:-//ChamberMaster//Event Calendar 2.0//EN
METHOD:PUBLISH
X-PUBLISHED-TTL:P3D
REFRESH-INTERVAL:P3D
CALSCALE:GREGORIAN
BEGIN:VEVENT
DTSTART;VALUE=DATE:20191127
DTEND;VALUE=DATE:20191217
TRANSP:TRANSPARENT
X-MICROSOFT-CDO-ALLDAYEVENT:TRUE
SUMMARY:Santa's Mailbox
DESCRIPTION:A North Pole Express mailbox will be placed in front of City Hall for children to write Santa and his helpers a letter for Christmas.  Please include child's name and return address so Santa can write back!
X-ALT-DESC;FMTTYPE=text/html:A North Pole Express mailbox will be placed in front of City Hall for children to write Santa and his helpers a letter for Christmas.&nbsp\; Please include child&#39\;s name and return address so Santa can write back!
LOCATION:City Hall 100 Lockville Road Pickerington\, OH 43147
UID:e.1451.12940
SEQUENCE:3
DTSTAMP:20260425T140724Z
URL:https://business.pickeringtonchamber.com/events/details/santa-s-mailbox-12940
END:VEVENT

END:VCALENDAR
