BEGIN:VCALENDAR
VERSION:2.0
PRODID:-//ChamberMaster//Event Calendar 2.0//EN
METHOD:PUBLISH
X-PUBLISHED-TTL:P3D
REFRESH-INTERVAL:P3D
CALSCALE:GREGORIAN
BEGIN:VEVENT
DTSTART:20220305T150000Z
DTEND:20220305T210000Z
X-MICROSOFT-CDO-ALLDAYEVENT:FALSE
SUMMARY:Ruby Joy Boutique Spring Soiree
DESCRIPTION:It's time to celebrate spring!\n\nJoin us at Ruby Joy Boutique for snacks\, deals and first dibs at shopping our new spring selections.\n\nEveryone that attends will receive a Bingo card\, fill it up to receive a prize!\n\nRSVP on Facebook: https://www.facebook.com/events/520712226025433
X-ALT-DESC;FMTTYPE=text/html:<div>It&#39\;s time to celebrate spring!</div>\n\n<p>Join us at Ruby Joy Boutique for snacks\, deals and first dibs at shopping our new spring selections.<br />\nEveryone that attends will receive a Bingo card\, fill it up to receive a prize!</p>\n\n<p>RSVP on Facebook:&nbsp\;<a href="https://www.facebook.com/events/520712226025433">https://www.facebook.com/events/520712226025433</a></p>\n
LOCATION:7333 E Livingston Ave Lower Level Reynoldsburg\, OH 43068
UID:e.1451.15745
SEQUENCE:3
DTSTAMP:20260423T204516Z
URL:https://business.pickeringtonchamber.com/events/details/ruby-joy-boutique-spring-soiree-15745
END:VEVENT

END:VCALENDAR
