BEGIN:VCALENDAR
VERSION:2.0
PRODID:-//ChamberMaster//Event Calendar 2.0//EN
METHOD:PUBLISH
X-PUBLISHED-TTL:P3D
REFRESH-INTERVAL:P3D
CALSCALE:GREGORIAN
BEGIN:VEVENT
DTSTART:20220408T180000Z
DTEND:20220408T193000Z
X-MICROSOFT-CDO-ALLDAYEVENT:FALSE
SUMMARY:Rock Painting
DESCRIPTION:Come Rock out with Abbington Assisted Living We are painting Rocks for our rock garden. Join us to paint a rock for your garden at home. Please RSVP @ Brenda@abbingtononline.com
X-ALT-DESC;FMTTYPE=text/html:Come Rock out with Abbington Assisted Living We are painting Rocks for our rock garden. Join us to paint a rock for your garden at home. Please RSVP @ Brenda@abbingtononline.com
LOCATION:9480 Blacklick-Eastern Road Pickerington\, Ohio 43147
UID:e.1451.15753
SEQUENCE:3
DTSTAMP:20260423T172551Z
URL:https://business.pickeringtonchamber.com/events/details/rock-painting-15753
END:VEVENT

END:VCALENDAR
