BEGIN:VCALENDAR
VERSION:2.0
PRODID:-//ChamberMaster//Event Calendar 2.0//EN
METHOD:PUBLISH
X-PUBLISHED-TTL:P3D
REFRESH-INTERVAL:P3D
CALSCALE:GREGORIAN
BEGIN:VEVENT
DTSTART:20191211T160000Z
DTEND:20191211T170000Z
X-MICROSOFT-CDO-ALLDAYEVENT:FALSE
SUMMARY:Ribbon Cutting at The Humble Crate
DESCRIPTION:Join us on Wednesday\, December 11\, 2019\, at 11 a.m. to celebrate the Grand Opening & Ribbon Cutting with The Humble Crate located right in Downtown Pickerington!  This great\, unique store is a fantastic place to get your holiday gifts while shopping local.  \n\n\n\nRibbon Cuttings are open to EVERYONE and are a great way to welcome a new business into the community!  Join us as we celebrate with the owner\, Janis Francis!
X-ALT-DESC;FMTTYPE=text/html:<br />\nJoin us on <strong>Wednesday\, December 11\, 2019</strong>\, at <strong>11 a.m.</strong> to celebrate the <strong>Grand Opening &amp\; Ribbon Cutting with The Humble Crate </strong>located right in Downtown Pickerington!&nbsp\; This great\, unique store is a fantastic place to get your holiday gifts while shopping local.&nbsp\;&nbsp\;<br />\n<br />\nRibbon Cuttings are open to EVERYONE and are a great way to welcome a new business into the community!&nbsp\; Join us as we celebrate with the owner\, Janis Francis!
LOCATION:The Humble Crate 18 E. Columbus St. Pickerington\, OH
UID:e.1451.13802
SEQUENCE:3
DTSTAMP:20260425T154802Z
URL:https://business.pickeringtonchamber.com/events/details/ribbon-cutting-at-the-humble-crate-13802
END:VEVENT

END:VCALENDAR
