BEGIN:VCALENDAR
VERSION:2.0
PRODID:-//ChamberMaster//Event Calendar 2.0//EN
METHOD:PUBLISH
X-PUBLISHED-TTL:P3D
REFRESH-INTERVAL:P3D
CALSCALE:GREGORIAN
BEGIN:VEVENT
DTSTART:20190812T114500Z
DTEND:20190812T200000Z
X-MICROSOFT-CDO-ALLDAYEVENT:FALSE
SUMMARY:Reynoldsburg-Pickerington Rotary Club Annual Golf Outing
DESCRIPTION:REYNOLDSBURG-PICKERINGTON ROTARY CLUB\n\nANNUAL GOLF OUTING - MONDAY\, AUGUST 12\, 2019\n\n(RAIN DATE: SEPTEMBER 9)\n\n\n\nBLACKLICK WOODS GOLF COURSE   7309 E. LIVINGSTON AVE\, REYNOLDSBURG\n\n\n\nBENEFITTING:  REYNOLDSBURG/PICKERINGTON SCHOOL SCHOLARSHIPS\, INTERNATIONAL EXCHANGE PROGRAM\, SLATE RIDGE ELEMENTARY E-BOOK LITERACY\, TYLER'S LIGHT/DRUG FREE CLUB\, FAIRFIELD COUNTY MEALS ON WHEELS\, VIOLET ELEMENTARY SCHOOL GARDEN\, AND AFTER SCHOOL HOMEWORK HELP - JUST TO\n\nNAME A FEW.\n\n\n\nFORMAT: 4 PERSON SCRAMBLE AT BLACKLICK WOODS GOLF COURSE\n\nPRIZES: SKILL PRIZES\, DOOR PRIZES\, $10\,000 PAR THREE HOLE-IN-ONE !\n\nCHECK IN: 7:45 AM: (CLUBHOUSE) TO 8:55 AM\n\nSTART TIME: SHOTGUN START 9:00 AM\, AWARDS: (PATIO)\, AROUND 2:00 PM\n\nGOLFER COST: $85.00 - INCLUDES GREEN FEES\, LUNCH\, RANGE BALLS\,\n\nCART\, DINNER\, AND REFRESHMENTS
X-ALT-DESC;FMTTYPE=text/html:<br />\n<strong>REYNOLDSBURG-PICKERINGTON ROTARY CLUB<br />\nANNUAL GOLF OUTING - MONDAY\, AUGUST 12\, 2019</strong><br />\n(RAIN DATE: SEPTEMBER 9)<br />\n<br />\nBLACKLICK WOODS GOLF COURSE &ndash\; 7309 E. LIVINGSTON AVE\, REYNOLDSBURG<br />\n<br />\nBENEFITTING:&nbsp\;&nbsp\;REYNOLDSBURG/PICKERINGTON SCHOOL SCHOLARSHIPS\, INTERNATIONAL&nbsp\;EXCHANGE PROGRAM\, SLATE RIDGE ELEMENTARY E-BOOK LITERACY\, TYLER&rsquo\;S&nbsp\;LIGHT/DRUG FREE CLUB\, FAIRFIELD COUNTY MEALS ON WHEELS\, VIOLET&nbsp\;ELEMENTARY SCHOOL GARDEN\, AND AFTER SCHOOL HOMEWORK HELP - JUST TO<br />\nNAME A FEW.<br />\n<br />\nFORMAT: 4 PERSON SCRAMBLE AT BLACKLICK WOODS GOLF COURSE<br />\nPRIZES: SKILL PRIZES\, DOOR PRIZES\, $10\,000 PAR THREE HOLE-IN-ONE !<br />\nCHECK IN: 7:45 AM: (CLUBHOUSE) TO 8:55 AM<br />\nSTART TIME: SHOTGUN START 9:00 AM\, AWARDS: (PATIO)\, AROUND 2:00 PM<br />\nGOLFER COST: $85.00 - INCLUDES GREEN FEES\, LUNCH\, RANGE BALLS\,<br />\nCART\, DINNER\, AND REFRESHMENTS
LOCATION:Blacklick Woods Golf Course 7309 E. Livingston Ave. Reynoldsburg\, OH
UID:e.1451.13339
SEQUENCE:3
DTSTAMP:20260425T204532Z
URL:https://business.pickeringtonchamber.com/events/details/reynoldsburg-pickerington-rotary-club-annual-golf-outing-13339
END:VEVENT

END:VCALENDAR
