BEGIN:VCALENDAR
VERSION:2.0
PRODID:-//ChamberMaster//Event Calendar 2.0//EN
METHOD:PUBLISH
X-PUBLISHED-TTL:P3D
REFRESH-INTERVAL:P3D
CALSCALE:GREGORIAN
BEGIN:VEVENT
DTSTART:20220804T180000Z
DTEND:20220807T180000Z
X-MICROSOFT-CDO-ALLDAYEVENT:FALSE
SUMMARY:RENT
DESCRIPTION:Set in the East Village of New York City\, RENT is about falling in love\, finding your voice and living for today. Winner of the Tony Award for Best Musical and the Pulitzer Prize for Drama\, RENT has become a pop cultural phenomenon. with songs that rock and a story that resonates with audiences of all ages. Based loosely on Puccini's La Boheme\, Jonathan Larson's RENT follows a year in the life of a group of impoverished young artists and musicians struggling to survive and create in New York's Lower East Side\, under the shadow of HIV/AIDS. How these young bohemians negotiate their dreams\, loves and conflicts provides the narrative thread to this groundbreaking musical.\n\nRENT is presented through special arrangement with Music Theatre International (MTI). All authorized performance materials are also supplied by MTI.
X-ALT-DESC;FMTTYPE=text/html:<p style="-webkit-font-smoothing: antialiased\; text-rendering: optimizelegibility\; box-sizing: inherit\; font-family: proxima-nova\, Arial\, Verdana\, sans-serif\; color: rgb(0\, 0\, 0)\; font-size: 18px\; padding: 0px\; margin: 15px 0px 0px\; line-height: 1.5\;"><span style="font-size:14px\;"><span style="font-family:verdana\;">Set in the East Village of New York City\, RENT is about falling in love\, finding your voice and living for today. Winner of the Tony Award for Best Musical and the Pulitzer Prize for Drama\, RENT has become a pop cultural phenomenon. with songs that rock and a story that resonates with audiences of all ages. Based loosely on Puccini&#39\;s La Boheme\, Jonathan Larson&#39\;s RENT follows a year in the life of a group of impoverished young artists and musicians struggling to survive and create in New York&#39\;s Lower East Side\, under the shadow of HIV/AIDS. How these young bohemians negotiate their dreams\, loves and conflicts provides the narrative thread to this groundbreaking musical.</span></span></p>\n\n<p style="-webkit-font-smoothing: antialiased\; text-rendering: optimizelegibility\; box-sizing: inherit\; font-family: proxima-nova\, Arial\, Verdana\, sans-serif\; color: rgb(0\, 0\, 0)\; font-size: 18px\; padding: 0px\; margin: 15px 0px 0px\; line-height: 1.5\;"><span style="font-size:14px\;"><span style="font-family:verdana\;">RENT is presented through special arrangement with Music Theatre International (MTI). All authorized performance materials are also supplied by&nbsp\;<a href="https://www.ohio.edu/lancaster/current-students/theatre/www.MTIShows.com" style="-webkit-font-smoothing: antialiased\; text-rendering: optimizelegibility\; box-sizing: inherit\; background-color: transparent\; color: rgb(0\, 105\, 78)\;">MTI</a>.</span></span>&nbsp\;</p>\n
LOCATION:Ohio University Lancaster Wagner Theatre | Brasee Hall
UID:e.1451.15770
SEQUENCE:3
DTSTAMP:20260423T105403Z
URL:https://business.pickeringtonchamber.com/events/details/rent-15770
END:VEVENT

END:VCALENDAR
