BEGIN:VCALENDAR
VERSION:2.0
PRODID:-//ChamberMaster//Event Calendar 2.0//EN
METHOD:PUBLISH
X-PUBLISHED-TTL:P3D
REFRESH-INTERVAL:P3D
CALSCALE:GREGORIAN
BEGIN:VEVENT
DTSTART:20190613T140000Z
DTEND:20190613T143000Z
X-MICROSOFT-CDO-ALLDAYEVENT:FALSE
SUMMARY:Raising Readers
DESCRIPTION:This early literacy class is for children ages 2-5 years\; siblings and caregivers welcome. Each session will include stories\, songs\, finger plays\, and group activities. No registration required.\n\n\n\nOur early literacy classes are weekly programs designed to enrich children's life experiences through literacy while supporting their parent's efforts to prepare them for school.  Parents learn how to play with their children in literate ways while their child experiences the following activities: fingerplays\, books\, songs\, interactive play\, themed literacy craft\, and free play.
X-ALT-DESC;FMTTYPE=text/html:<span style="text-transform:none\;"><span style="font-size:12.0pt\;">This early literacy class is for children ages 2-5 years\; siblings and caregivers welcome. Each session will include stories\, songs\, finger plays\, and group activities. No registration required.</span></span><br />\n<br />\n<em><span style="text-transform:none\;"><span style="font-size:10.0pt\;">Our early literacy classes are weekly programs designed to enrich children&rsquo\;s life experiences through literacy while supporting their parent&rsquo\;s efforts to prepare them for school.&nbsp\; Parents learn how to play with their children in literate ways while their child experiences the following activities: fingerplays\, books\, songs\, interactive play\, themed literacy craft\, and free play.</span></span></em>
LOCATION:Sycamore Plaza Library 7861 Refugee Road Pickerington\, OH 43147
UID:e.1451.13272
SEQUENCE:3
DTSTAMP:20260425T235452Z
URL:https://business.pickeringtonchamber.com/events/details/raising-readers-06-13-2019-13272
END:VEVENT

END:VCALENDAR
