BEGIN:VCALENDAR
VERSION:2.0
PRODID:-//ChamberMaster//Event Calendar 2.0//EN
METHOD:PUBLISH
X-PUBLISHED-TTL:P3D
REFRESH-INTERVAL:P3D
CALSCALE:GREGORIAN
BEGIN:VEVENT
DTSTART:20220602T220000Z
DTEND:20220602T220000Z
X-MICROSOFT-CDO-ALLDAYEVENT:FALSE
SUMMARY:PYROTECHNIKA
DESCRIPTION:Performance will feature an essence of cultures through dance and fire show. This is an outdoor event- PLEASE bring your lawn chair. We will bus you to Abbington Assisted Living for the show from the Marcus Parking Lot from 5pm-5:30pm.
X-ALT-DESC;FMTTYPE=text/html:Performance will feature an essence of cultures through dance and fire show. This is an outdoor event- PLEASE bring your lawn chair. We will bus you to Abbington Assisted Living for the show from the Marcus Parking Lot from 5pm-5:30pm.
LOCATION:Abbington Assisted Living 9480 Blacklick-Eastern Road Pickerington\, Ohio 43147 614-577-0822
UID:e.1451.15771
SEQUENCE:3
DTSTAMP:20260423T141734Z
URL:https://business.pickeringtonchamber.com/events/details/pyrotechnika-15771
END:VEVENT

END:VCALENDAR
