BEGIN:VCALENDAR
VERSION:2.0
PRODID:-//ChamberMaster//Event Calendar 2.0//EN
METHOD:PUBLISH
X-PUBLISHED-TTL:P3D
REFRESH-INTERVAL:P3D
CALSCALE:GREGORIAN
BEGIN:VEVENT
DTSTART:20191016T170000Z
DTEND:20191016T180000Z
X-MICROSOFT-CDO-ALLDAYEVENT:FALSE
SUMMARY:Protecting Your Digital Privacy
DESCRIPTION:Danielle Murphy\, from the Ohio Attorney General's Consumer Protection Office\, will present information on their Cybersecurity Help\, Information\, and Protection Program. (CHIPP)\n\n\n\n\n\n\n\n \n\n \n\nDo you ever wonder what is happening to your information when you use technology? We invite you to learn from Danielle Murphy from the Ohio Attorney General's Consumer Protection Office about the Cybersecurity Help\, Information\, and Protection Program (CHIPP). She will share the importance of both the security and privacy of personal information\, including the special challenges presented by the use of smartphones and other mobile devices.\n\nRegistration Required.
X-ALT-DESC;FMTTYPE=text/html:<div class="amh-row row" id="idlw5ZC" style="box-sizing: border-box\; margin: 0px auto\; padding: 8px 0px\; border-top: 1px solid rgb(187\, 187\, 187)\; color: rgb(72\, 72\, 72)\; font-family: &quot\;Source Sans Pro&quot\;\, sans-serif\; font-size: 16px\;">\n<div class="amh-block amh-text col-md-12" data-block-type="text" id="idjLXfv" style="box-sizing: border-box\; position: relative\; min-height: 1px\; padding: 0px\; float: left\; width: 846px\; margin: 0px\;">\n<div class="amh-content" style="box-sizing: border-box\; margin-left: auto\; margin-right: auto\; position: relative\;">\n<p class="custom1" style="box-sizing: border-box\; margin: 1em 0px 0.5em\; color: rgb(52\, 72\, 94)\; font-size: 1.3em\;"><span style="box-sizing: border-box\;">Danielle Murphy\, from the Ohio Attorney General&#39\;s Consumer Protection Office\, will present information on their Cybersecurity Help\, Information\, and Protection Program. (CHIPP)</span></p>\n</div>\n</div>\n</div>\n\n<div class="amh-row row" id="idQ9R9H" style="box-sizing: border-box\; margin: 0px auto\; padding: 0px\; color: rgb(72\, 72\, 72)\; font-family: &quot\;Source Sans Pro&quot\;\, sans-serif\; font-size: 16px\;">\n<div class="amh-block amh-text col-md-12" data-block-type="text" id="idiga4D" style="box-sizing: border-box\; position: relative\; min-height: 1px\; padding: 0px\; float: left\; width: 846px\; margin: 0px\;">\n<div class="amh-content" style="box-sizing: border-box\; margin: 10px auto 30px\; position: relative\; border-width: 0px\; border-style: solid\;">\n<p style="box-sizing: border-box\; margin: 0px 0px 10px\; color: rgb(86\, 88\, 91)\;">&nbsp\;</p>\n\n<p style="box-sizing: border-box\; margin: 0px 0px 10px\; color: rgb(86\, 88\, 91)\;">&nbsp\;</p>\n\n<p style="box-sizing: border-box\; margin: 0px 0px 10px\; color: rgb(86\, 88\, 91)\;"><span style="box-sizing: border-box\;">Do you ever wonder what is happening to your information when you use technology? We invite you to learn from Danielle Murphy from the Ohio Attorney General&#39\;s Consumer Protection Office about the Cybersecurity Help\, Information\, and Protection Program (CHIPP). She will share the importance of both the security and privacy of personal information\, including the special challenges presented by the use of smartphones and other mobile devices.</span></p>\n\n<p style="box-sizing: border-box\; margin: 0px 0px 10px\; color: rgb(86\, 88\, 91)\;"><span style="box-sizing: border-box\;">Registration Required.</span></p>\n</div>\n</div>\n</div>\n
LOCATION:Pickerington Public Library 201 Opportunity Way Pickerington
UID:e.1451.13729
SEQUENCE:3
DTSTAMP:20260425T190651Z
URL:https://business.pickeringtonchamber.com/events/details/protecting-your-digital-privacy-13729
END:VEVENT

END:VCALENDAR
