BEGIN:VCALENDAR
VERSION:2.0
PRODID:-//ChamberMaster//Event Calendar 2.0//EN
METHOD:PUBLISH
X-PUBLISHED-TTL:P3D
REFRESH-INTERVAL:P3D
CALSCALE:GREGORIAN
BEGIN:VEVENT
DTSTART:20210704T123000Z
DTEND:20210704T153000Z
X-MICROSOFT-CDO-ALLDAYEVENT:FALSE
SUMMARY:Picktown Palooza Freedom 5K & Kids Fun Run
DESCRIPTION:The Freedom 5k & Kids' Fun Run is a family friendly event to celebrate the birth of our nation.\n \n\nTake a break from the concrete as this event is a 5k run that winds its way through the Pickerington High School North XC course. The 5k course is an OHSAA certified 5\,000m course with varied terrain through woods and practice fields. There is very little elevation change on the course. Over 1200m of the course is run through wooded terrain.\n\nThe Central Ohio Regional Cross Country Championship is run on the Pickerington North XC course. The start and finish area is located within 100m of each other for a spectator-friendly viewing of the race. The run includes a Kids' Fun Run in advance of the 5k event\, so be sure to bring the whole family!
X-ALT-DESC;FMTTYPE=text/html:<br />\n<span style="color: rgb(102\, 102\, 102)\; font-family: ABeeZee\, Helvetica\, Arial\, Lucida\, sans-serif\; font-size: 17px\;">The Freedom 5k &amp\; Kids&rsquo\; Fun Run is a family friendly event to celebrate the birth of our nation.</span>\n<p style="box-sizing: border-box\; margin: 0px\; padding: 0px 0px 1em\; border: 0px\; outline: 0px\; font-size: 17px\; text-size-adjust: 100%\; vertical-align: baseline\; background-image: initial\; background-position: 0px 0px\; background-size: initial\; background-repeat: initial\; background-attachment: initial\; background-origin: initial\; background-clip: initial\; color: rgb(102\, 102\, 102)\; font-family: ABeeZee\, Helvetica\, Arial\, Lucida\, sans-serif\;">&nbsp\;</p>\n\n<p style="box-sizing: border-box\; margin: 0px\; padding: 0px 0px 1em\; border: 0px\; outline: 0px\; font-size: 17px\; text-size-adjust: 100%\; vertical-align: baseline\; background-image: initial\; background-position: 0px 0px\; background-size: initial\; background-repeat: initial\; background-attachment: initial\; background-origin: initial\; background-clip: initial\; color: rgb(102\, 102\, 102)\; font-family: ABeeZee\, Helvetica\, Arial\, Lucida\, sans-serif\;">Take a break from the concrete as this event is a 5k run that winds its way through the Pickerington High School North XC course. The 5k course is an OHSAA certified 5\,000m course with varied terrain through woods and practice fields. There is very little elevation change on the course. Over 1200m of the course is run through wooded terrain.</p>\n\n<p style="box-sizing: border-box\; margin: 0px\; padding: 0px 0px 1em\; border: 0px\; outline: 0px\; font-size: 17px\; text-size-adjust: 100%\; vertical-align: baseline\; background-image: initial\; background-position: 0px 0px\; background-size: initial\; background-repeat: initial\; background-attachment: initial\; background-origin: initial\; background-clip: initial\; color: rgb(102\, 102\, 102)\; font-family: ABeeZee\, Helvetica\, Arial\, Lucida\, sans-serif\;">The Central Ohio Regional Cross Country Championship is run on the Pickerington North XC course. The start and finish area is located within 100m of each other for a spectator-friendly viewing of the race. The run includes a Kids&rsquo\; Fun Run in advance of the 5k event\, so be sure to bring the whole family!</p>\n
LOCATION:Pickerington High School North 7800 Refugee Rd.
UID:e.1451.15344
SEQUENCE:3
DTSTAMP:20260424T093608Z
URL:https://business.pickeringtonchamber.com/events/details/picktown-palooza-freedom-5k-kids-fun-run-15344
END:VEVENT

END:VCALENDAR
