BEGIN:VCALENDAR
VERSION:2.0
PRODID:-//ChamberMaster//Event Calendar 2.0//EN
METHOD:PUBLISH
X-PUBLISHED-TTL:P3D
REFRESH-INTERVAL:P3D
CALSCALE:GREGORIAN
BEGIN:VEVENT
DTSTART:20210717T150000Z
DTEND:20210717T203000Z
X-MICROSOFT-CDO-ALLDAYEVENT:FALSE
SUMMARY:Picktown Palooza Car & Bike Show
DESCRIPTION:The Car & Bike Show is a fabulous display of classic and antique cars and motorcycles!
X-ALT-DESC;FMTTYPE=text/html:<br />\n<span style="color: rgb(102\, 102\, 102)\; font-family: ABeeZee\, Helvetica\, Arial\, Lucida\, sans-serif\; font-size: 17px\;">The Car &amp\; Bike Show is a fabulous display of classic and antique cars and motorcycles!</span>
LOCATION:Pickerington High School Central 300 Opportunity Way
UID:e.1451.15345
SEQUENCE:3
DTSTAMP:20260424T075830Z
URL:https://business.pickeringtonchamber.com/events/details/picktown-palooza-car-bike-show-15345
END:VEVENT

END:VCALENDAR
