BEGIN:VCALENDAR
VERSION:2.0
PRODID:-//ChamberMaster//Event Calendar 2.0//EN
METHOD:PUBLISH
X-PUBLISHED-TTL:P3D
REFRESH-INTERVAL:P3D
CALSCALE:GREGORIAN
BEGIN:VEVENT
DTSTART;VALUE=DATE:20210715
DTEND;VALUE=DATE:20210716
TRANSP:TRANSPARENT
X-MICROSOFT-CDO-ALLDAYEVENT:TRUE
SUMMARY:Picktown Palooza
DESCRIPTION:Picktown Palooza is a 3-day celebration of the community that offers a variety of fun and entertainment. Whether it is the Carnival Rides\, the more than 10 food vendors\, the national entertainment line-up\, the Freedom 5k and kids' fun run\, or the car & bike show\, the Palooza has something for families and individuals of all ages.\n\n\n\nCheck out the entertainment line-up at www.picktownpalooza.org
X-ALT-DESC;FMTTYPE=text/html:<br />\n<span style="color: rgb(0\, 0\, 0)\; font-family: ABeeZee\, Helvetica\, Arial\, Lucida\, sans-serif\; font-size: 18px\;">Picktown Palooza is a 3-day celebration of the community that offers a variety of fun and entertainment. Whether it is the&nbsp\;</span><span style="box-sizing: border-box\; margin: 0px\; padding: 0px\; border: 0px\; outline: 0px\; font-size: 18px\; text-size-adjust: 100%\; vertical-align: baseline\; background-image: initial\; background-position: 0px 0px\; background-size: initial\; background-repeat: initial\; background-attachment: initial\; background-origin: initial\; background-clip: initial\; color: rgb(0\, 0\, 0)\; font-family: ABeeZee\, Helvetica\, Arial\, Lucida\, sans-serif\;">Carnival Rides</span><span style="color: rgb(0\, 0\, 0)\; font-family: ABeeZee\, Helvetica\, Arial\, Lucida\, sans-serif\; font-size: 18px\;">\, the more than 10 food vendors\, the national entertainment line-up\, the Freedom 5k and kids&rsquo\; fun run\, or the car &amp\; bike show\, the Palooza has something for families and individuals of all ages.</span><br />\n<br />\nCheck out the entertainment line-up at <a href="https://picktownpalooza.org/">www.picktownpalooza.org</a>
LOCATION:Pickerington High School Central 300 Opportunity Way
UID:e.1451.15346
SEQUENCE:3
DTSTAMP:20260424T075459Z
URL:https://business.pickeringtonchamber.com/events/details/picktown-palooza-15346
END:VEVENT

END:VCALENDAR
