BEGIN:VCALENDAR
VERSION:2.0
PRODID:-//ChamberMaster//Event Calendar 2.0//EN
METHOD:PUBLISH
X-PUBLISHED-TTL:P3D
REFRESH-INTERVAL:P3D
CALSCALE:GREGORIAN
BEGIN:VEVENT
DTSTART:20190711T210000Z
DTEND:20190714T030000Z
X-MICROSOFT-CDO-ALLDAYEVENT:FALSE
SUMMARY:Picktown Palooza
DESCRIPTION:Three nights of live music with nationally touring headliners\, rides\, vendors\, a beer tent and free Southern Recipe Small Batch pork rinds!
X-ALT-DESC;FMTTYPE=text/html:<br />\nThree nights of live music with nationally touring headliners\, rides\, vendors\, a beer tent and free Southern Recipe Small Batch pork rinds!
LOCATION:89 N. Center Street Pickerington\, OH 43147
UID:e.1451.13411
SEQUENCE:3
DTSTAMP:20260425T233926Z
URL:https://business.pickeringtonchamber.com/events/details/picktown-palooza-07-11-2019-13411
END:VEVENT

END:VCALENDAR
