BEGIN:VCALENDAR
VERSION:2.0
PRODID:-//ChamberMaster//Event Calendar 2.0//EN
METHOD:PUBLISH
X-PUBLISHED-TTL:P3D
REFRESH-INTERVAL:P3D
CALSCALE:GREGORIAN
BEGIN:VEVENT
DTSTART:20220201T130000Z
DTEND:20220201T150000Z
X-MICROSOFT-CDO-ALLDAYEVENT:FALSE
SUMMARY:Pickerington Village Association Annual Meeting
DESCRIPTION:Boost your presence in the Pickerington Community by joining the PVA!\n\n\n\nPickerington Village Association is comprised of not only businesses\, but families and individuals who are not only interested in furthering the development of the Olde Pickerington Village\, but also expand their "brand". Being a PVA member will provide you with opportunities to sponsor area events at possible discounted rates.\n\n\n\nPVA events include: Chocolate Hop\, Pet Fest\, Oktoerfest\, Holiday Gathering and possibly more to come! Even if you do not own a business in the Village\, you are permitted and encouraged to be a part of it all! Partnering with existing businesses in the Village to set up during upcoming events is a great opportunity!\n\n\n\nPlease join us\, Tuesday - February 1\, 2022 - 8am at Combustion Brewery & Taproom for our annual meeting. During this meeting\, you can mingle with other area business owners and area community leaders. During this meeting we will also have membership forms available. Officer Elections will also be held this day.\n\n\n\n*RSVP required*\n\nQuestions? Ask Janis at 614-561-3199
X-ALT-DESC;FMTTYPE=text/html:<span style="font-size:14px\;"><strong>Boost your presence in the Pickerington Community by joining the PVA!</strong></span><br />\n<br />\nPickerington Village Association is comprised of not only businesses\, but families and individuals who are not only interested in furthering the development of the Olde Pickerington Village\, but also expand their &ldquo\;brand&rdquo\;. Being a PVA member will provide you with opportunities to sponsor area events at possible discounted rates.<br />\n<br />\nPVA events include: Chocolate Hop\, Pet Fest\, Oktoerfest\, Holiday Gathering and possibly more to come! Even if you do not own a business in the Village\, you are permitted and encouraged to be a part of it all! Partnering with existing businesses in the Village to set up during upcoming events is a great opportunity!<br />\n<br />\nPlease join us\, <strong>Tuesday - February 1\, 2022 - 8am at Combustion Brewery &amp\; Taproom</strong> for our annual meeting. During this meeting\, you can mingle with other area business owners and area community leaders. During this meeting we will also have membership forms available. Officer Elections will also be held this day.<br />\n<br />\n*RSVP required*<br />\n<strong>Questions? Ask Janis at 614-561-3199</strong>
LOCATION:Combustion Brewery & Taproom 80 W Church St.
UID:e.1451.15739
SEQUENCE:3
DTSTAMP:20260423T210022Z
URL:https://business.pickeringtonchamber.com/events/details/pickerington-village-association-annual-meeting-15739
END:VEVENT

END:VCALENDAR
