BEGIN:VCALENDAR
VERSION:2.0
PRODID:-//ChamberMaster//Event Calendar 2.0//EN
METHOD:PUBLISH
X-PUBLISHED-TTL:P3D
REFRESH-INTERVAL:P3D
CALSCALE:GREGORIAN
BEGIN:VEVENT
DTSTART:20210925T160000Z
DTEND:20210926T020000Z
X-MICROSOFT-CDO-ALLDAYEVENT:FALSE
SUMMARY:Pickerington Oktoberfest 2021
DESCRIPTION:A FREE Community Event brought to you by the Pickerington Village Association and Combustion Brewery & Taproom. This outdoor event and bier garden will take place in the Combustion parking lot! All minors must be accompanied by an adult.\n\n \n\n  VOLUNTEER  \n\n(Free event t-shirt plus a drink token for each shift worked). Adults 21+ can sign up here:\n\nhttps://www.signupgenius.com/.../409094FAFA622A46...\n\n \n\n  LIVE MUSIC  \n\nAaron Dussing & Polka Revolution   12:30-2:30\n\nPerennial Rye   3-5\n\nLargemouth Brass Band   5:30-7:30\n\nReelin' In The Years   8-10\n\n \n\n  FOOD TRUCKS  \n\nPorters Coffee House and Bakery Truck   9-2\n\nSchmidt's Sausage Truck   noon-10\n\nCousins Maine Lobster   noon-10\n\nHangry City Grille and Spirits Truck   noon-10\n\nHogg Head's Barbecue   noon-10\n\n \n\n  BROKEMANS BEER MILE  \n\n10am-noon\n\nChug a beer. Run a quarter mile x 4!\n\nSign up here:\n\nhttps://www.brokemans.com/brokemans-beer-mile\n\n \n\n  GAMES  \n\nBarrel Rolling Race\n\nStein Holding Contest\n\nCream Puff Eating Contest\n\n \n\n  BEERS  \n\nPelotonia Pilsner (German-style Pilsner)\n\nEl Heffe (German-style Hefeweizen)\n\nOktoberfest (German-style M rzen)\n\n \n\n  2021 SPONSORS  \n\nPickerington Village Association\n\nViolet Community Fitness\n\nHeartland Bank\n\nHer Realtors   Sam Cooper\n\nState Farm   Michelle Brown\n\nCentury 21   Nikki DiNardo
X-ALT-DESC;FMTTYPE=text/html:&nbsp\;\n<div class="o9v6fnle cxmmr5t8 oygrvhab hcukyx3x c1et5uql" style="overflow-wrap: break-word\; margin: 0.5em 0px 0px\; font-family: &quot\;Segoe UI Historic&quot\;\, &quot\;Segoe UI&quot\;\, Helvetica\, Arial\, sans-serif\; color: rgb(5\, 5\, 5)\; font-size: 15px\;">A FREE Community Event brought to you by the Pickerington Village Association and Combustion Brewery &amp\; Taproom. This outdoor event and bier garden will take place in the Combustion parking lot! All minors must be accompanied by an adult.</div>\n\n<div class="o9v6fnle cxmmr5t8 oygrvhab hcukyx3x c1et5uql" style="overflow-wrap: break-word\; margin: 0.5em 0px 0px\; font-family: &quot\;Segoe UI Historic&quot\;\, &quot\;Segoe UI&quot\;\, Helvetica\, Arial\, sans-serif\; color: rgb(5\, 5\, 5)\; font-size: 15px\;">&nbsp\;</div>\n\n<div class="o9v6fnle cxmmr5t8 oygrvhab hcukyx3x c1et5uql" style="overflow-wrap: break-word\; margin: 0.5em 0px 0px\; font-family: &quot\;Segoe UI Historic&quot\;\, &quot\;Segoe UI&quot\;\, Helvetica\, Arial\, sans-serif\; color: rgb(5\, 5\, 5)\; font-size: 15px\;">&mdash\; VOLUNTEER &mdash\;<br />\n(Free event t-shirt plus a drink token for each shift worked). Adults 21+ can sign up here:</div>\n\n<div class="o9v6fnle cxmmr5t8 oygrvhab hcukyx3x c1et5uql" style="overflow-wrap: break-word\; margin: 0.5em 0px 0px\; font-family: &quot\;Segoe UI Historic&quot\;\, &quot\;Segoe UI&quot\;\, Helvetica\, Arial\, sans-serif\; color: rgb(5\, 5\, 5)\; font-size: 15px\;"><a class="oajrlxb2 g5ia77u1 qu0x051f esr5mh6w e9989ue4 r7d6kgcz rq0escxv nhd2j8a9 nc684nl6 p7hjln8o kvgmc6g5 cxmmr5t8 oygrvhab hcukyx3x jb3vyjys rz4wbd8a qt6c0cv9 a8nywdso i1ao9s8h esuyzwwr f1sip0of lzcic4wl py34i1dx gpro0wi8" href="https://www.signupgenius.com/go/409094FAFA622A46-oktoberfest1?fbclid=IwAR3deWYTYLWWcgT-m81gKZLhgEe4D0sBiw93w1U89uVcpyM75YvSTHqY_cI" rel="nofollow noopener" role="link" style="color: var(--blue-link)\; cursor: pointer\; text-decoration-line: none\; outline: none\; list-style: none\; border-width: 0px\; border-style: initial\; border-color: initial\; padding: 0px\; margin: 0px\; touch-action: manipulation\; background-color: transparent\; text-align: inherit\; display: inline\; -webkit-tap-highlight-color: transparent\; box-sizing: border-box\; font-family: inherit\;" tabindex="0" target="_blank">https://www.signupgenius.com/.../409094FAFA622A46...</a></div>\n\n<div class="o9v6fnle cxmmr5t8 oygrvhab hcukyx3x c1et5uql" style="overflow-wrap: break-word\; margin: 0.5em 0px 0px\; font-family: &quot\;Segoe UI Historic&quot\;\, &quot\;Segoe UI&quot\;\, Helvetica\, Arial\, sans-serif\; color: rgb(5\, 5\, 5)\; font-size: 15px\;">&nbsp\;</div>\n\n<div class="o9v6fnle cxmmr5t8 oygrvhab hcukyx3x c1et5uql" style="overflow-wrap: break-word\; margin: 0.5em 0px 0px\; font-family: &quot\;Segoe UI Historic&quot\;\, &quot\;Segoe UI&quot\;\, Helvetica\, Arial\, sans-serif\; color: rgb(5\, 5\, 5)\; font-size: 15px\;">&mdash\; LIVE MUSIC &mdash\;<br />\nAaron Dussing &amp\; Polka Revolution &bull\; 12:30-2:30<br />\nPerennial Rye &bull\; 3-5<br />\nLargemouth Brass Band &bull\; 5:30-7:30<br />\nReelin&#39\; In The Years &bull\; 8-10</div>\n\n<div class="o9v6fnle cxmmr5t8 oygrvhab hcukyx3x c1et5uql" style="overflow-wrap: break-word\; margin: 0.5em 0px 0px\; font-family: &quot\;Segoe UI Historic&quot\;\, &quot\;Segoe UI&quot\;\, Helvetica\, Arial\, sans-serif\; color: rgb(5\, 5\, 5)\; font-size: 15px\;">&nbsp\;</div>\n\n<div class="o9v6fnle cxmmr5t8 oygrvhab hcukyx3x c1et5uql" style="overflow-wrap: break-word\; margin: 0.5em 0px 0px\; font-family: &quot\;Segoe UI Historic&quot\;\, &quot\;Segoe UI&quot\;\, Helvetica\, Arial\, sans-serif\; color: rgb(5\, 5\, 5)\; font-size: 15px\;">&mdash\; FOOD TRUCKS &mdash\;<br />\nPorters Coffee House and Bakery Truck &bull\; 9-2<br />\nSchmidt&#39\;s Sausage Truck &bull\; noon-10<br />\nCousins Maine Lobster &bull\; noon-10<br />\nHangry City Grille and Spirits Truck &bull\; noon-10<br />\nHogg Head&#39\;s Barbecue &bull\; noon-10</div>\n\n<div class="o9v6fnle cxmmr5t8 oygrvhab hcukyx3x c1et5uql" style="overflow-wrap: break-word\; margin: 0.5em 0px 0px\; font-family: &quot\;Segoe UI Historic&quot\;\, &quot\;Segoe UI&quot\;\, Helvetica\, Arial\, sans-serif\; color: rgb(5\, 5\, 5)\; font-size: 15px\;">&nbsp\;</div>\n\n<div class="o9v6fnle cxmmr5t8 oygrvhab hcukyx3x c1et5uql" style="overflow-wrap: break-word\; margin: 0.5em 0px 0px\; font-family: &quot\;Segoe UI Historic&quot\;\, &quot\;Segoe UI&quot\;\, Helvetica\, Arial\, sans-serif\; color: rgb(5\, 5\, 5)\; font-size: 15px\;">&mdash\; BROKEMANS BEER MILE &mdash\;<br />\n10am-noon<br />\nChug a beer. Run a quarter mile x 4!<br />\nSign up here:<br />\n<a class="oajrlxb2 g5ia77u1 qu0x051f esr5mh6w e9989ue4 r7d6kgcz rq0escxv nhd2j8a9 nc684nl6 p7hjln8o kvgmc6g5 cxmmr5t8 oygrvhab hcukyx3x jb3vyjys rz4wbd8a qt6c0cv9 a8nywdso i1ao9s8h esuyzwwr f1sip0of lzcic4wl py34i1dx gpro0wi8" href="https://www.brokemans.com/brokemans-beer-mile?fbclid=IwAR1GfeMxtMhb5yFFIa1vmEkY8whtiZJ29yDqqHRCfGTgfdjcKz4L5zhGnzw" rel="nofollow noopener" role="link" style="color: var(--blue-link)\; cursor: pointer\; text-decoration-line: none\; outline: none\; list-style: none\; border-width: 0px\; border-style: initial\; border-color: initial\; padding: 0px\; margin: 0px\; touch-action: manipulation\; background-color: transparent\; text-align: inherit\; display: inline\; -webkit-tap-highlight-color: transparent\; box-sizing: border-box\; font-family: inherit\;" tabindex="0" target="_blank">https://www.brokemans.com/brokemans-beer-mile</a></div>\n\n<div class="o9v6fnle cxmmr5t8 oygrvhab hcukyx3x c1et5uql" style="overflow-wrap: break-word\; margin: 0.5em 0px 0px\; font-family: &quot\;Segoe UI Historic&quot\;\, &quot\;Segoe UI&quot\;\, Helvetica\, Arial\, sans-serif\; color: rgb(5\, 5\, 5)\; font-size: 15px\;">&nbsp\;</div>\n\n<div class="o9v6fnle cxmmr5t8 oygrvhab hcukyx3x c1et5uql" style="overflow-wrap: break-word\; margin: 0.5em 0px 0px\; font-family: &quot\;Segoe UI Historic&quot\;\, &quot\;Segoe UI&quot\;\, Helvetica\, Arial\, sans-serif\; color: rgb(5\, 5\, 5)\; font-size: 15px\;">&mdash\; GAMES &mdash\;<br />\nBarrel Rolling Race<br />\nStein Holding Contest<br />\nCream Puff Eating Contest</div>\n\n<div class="o9v6fnle cxmmr5t8 oygrvhab hcukyx3x c1et5uql" style="overflow-wrap: break-word\; margin: 0.5em 0px 0px\; font-family: &quot\;Segoe UI Historic&quot\;\, &quot\;Segoe UI&quot\;\, Helvetica\, Arial\, sans-serif\; color: rgb(5\, 5\, 5)\; font-size: 15px\;">&nbsp\;</div>\n\n<div class="o9v6fnle cxmmr5t8 oygrvhab hcukyx3x c1et5uql" style="overflow-wrap: break-word\; margin: 0.5em 0px 0px\; font-family: &quot\;Segoe UI Historic&quot\;\, &quot\;Segoe UI&quot\;\, Helvetica\, Arial\, sans-serif\; color: rgb(5\, 5\, 5)\; font-size: 15px\;">&mdash\; BEERS &mdash\;<br />\nPelotonia Pilsner (German-style Pilsner)<br />\nEl Heffe (German-style Hefeweizen)<br />\nOktoberfest (German-style M&auml\;rzen)</div>\n\n<div class="o9v6fnle cxmmr5t8 oygrvhab hcukyx3x c1et5uql" style="overflow-wrap: break-word\; margin: 0.5em 0px 0px\; font-family: &quot\;Segoe UI Historic&quot\;\, &quot\;Segoe UI&quot\;\, Helvetica\, Arial\, sans-serif\; color: rgb(5\, 5\, 5)\; font-size: 15px\;">&nbsp\;</div>\n\n<div class="o9v6fnle cxmmr5t8 oygrvhab hcukyx3x c1et5uql" style="overflow-wrap: break-word\; margin: 0.5em 0px 0px\; font-family: &quot\;Segoe UI Historic&quot\;\, &quot\;Segoe UI&quot\;\, Helvetica\, Arial\, sans-serif\; color: rgb(5\, 5\, 5)\; font-size: 15px\;">&mdash\; 2021 SPONSORS &mdash\;<br />\nPickerington Village Association<br />\nViolet Community Fitness<br />\nHeartland Bank<br />\nHer Realtors &mdash\; Sam Cooper<br />\nState Farm &mdash\; Michelle Brown<br />\nCentury 21 &mdash\; Nikki DiNardo</div>\n
LOCATION:Combustion Brewery & Taproom 80 W. Church St. Pickerington
UID:e.1451.15416
SEQUENCE:3
DTSTAMP:20260424T044951Z
URL:https://business.pickeringtonchamber.com/events/details/pickerington-oktoberfest-2021-15416
END:VEVENT

END:VCALENDAR
