BEGIN:VCALENDAR
VERSION:2.0
PRODID:-//ChamberMaster//Event Calendar 2.0//EN
METHOD:PUBLISH
X-PUBLISHED-TTL:P3D
REFRESH-INTERVAL:P3D
CALSCALE:GREGORIAN
BEGIN:VEVENT
DTSTART:20240727T200000Z
DTEND:20240728T000000Z
X-MICROSOFT-CDO-ALLDAYEVENT:FALSE
SUMMARY:Pickerington Murder Mystery Night 2024
DESCRIPTION:YOU ARE WELCOME TO REGISTER\, but we are out of detective kits and swag bags. You can still enjoy the experience without these items. Only two clues require items from the detective kits\, and we can help you along with those. We just wanted you to be advised.\n\n\n\nCome out and join your community at this NEW event for 2024! The Pickerington Murder Mystery Night\, hosted by the Pickerington Area Chamber (created by PACC President Kim Barlag) and presented by the City of Pickerington\, brings area businesses and community members together for a night of food\, fun\, and mystery! \n\n\n\nPreregister your team here. Then on July 27\, start at City Hall the location of the CRIME SCENE  where instructions\, story line\, suspects\, clue stops\, and business/vendor locations will be provided. Develop your team strategy and visit stops at your own pace to solve the mystery!\n\n\n\nThe Mystery (by PACC President Kim Barlag):\n\nIn the quaint bedroom community of Pickerington\, where life ebbs and flows with the gentle predictability of the seasons\, an imposter lurks. Living among us\, under the guise of neighbor\, respected Chamber member\, and friend\, is none other than the infamous jewel thief\, "The Nightingale\," member of a notorious international crew whose heists have dazzled and baffled law enforcement around the world.\n\n\n\nNo one has ever seen The Nightingale aside from their crew. They have chosen our town as a place to lie low\, to blend in\, until the heat subsides from their last spectacular heist the daring theft of the legendary and priceless Empress' Heart.\n\n\n\nAn Interpol agent has come to town\, identifying a list of community members suspected of being acquainted with the criminal fraternity. And the situation becomes even more dire when a dead body is discovered in the parking lot of City Hall...\n\n\n\nWe ask you members of the community to form your own team of investigators for $60/team (includes up to four per team\; $15 for additional team members) at pickeringtonchamber.com/events.\n\n\n\nOn July 27\, 4-8 p.m.\, your team can wander Olde Pickerington Village\, interrogating suspects\, visiting clue stations and businesses\, getting tips from real detectives\, solving puzzles\, and obtaining CSI analysis. Can you identify the imposter and solve the crime?\n\n\n\nTeams who register by July 1 will receive detective kits and swag bags for each member. Register later/onsite\, and supplies may vary.\n\n\n\nEach month\, Pickerington Online will reveal new suspects involved in the Pickerington Murder Mystery Night. Follow the Pickerington Area Chamber on Facebook and Instagram as the mystery unravels. We need your help\, before even more secrets (and bodies) are buried. Win prizes too!
X-ALT-DESC;FMTTYPE=text/html:<strong><span style="color:#FF0000\;">YOU ARE WELCOME TO REGISTER\, but we are out of detective kits and swag bags. You can still enjoy the experience without these items. Only two clues require items from the detective kits\, and we can help you along with those. We just wanted you to be advised.</span></strong><br />\n<br />\nCome out and join your community at this NEW event for 2024! The Pickerington Murder Mystery Night\, hosted by the Pickerington Area Chamber (created by PACC President Kim Barlag) and presented by the City of Pickerington\, brings area businesses and community members together for a night of food\, fun\, and mystery!&nbsp\;<br />\n<br />\nPreregister your team here. Then on July 27\, start at City Hall&mdash\;the location of the CRIME SCENE&mdash\; where instructions\, story line\, suspects\, clue stops\, and business/vendor locations will be provided.&nbsp\;Develop your team strategy and visit stops at your own pace to solve the mystery!<br />\n<br />\n<strong>The Mystery (by PACC President Kim Barlag):</strong><br />\nIn the quaint bedroom community of Pickerington\, where life ebbs and flows with the gentle predictability of the seasons\, an imposter lurks. Living among us\, under the guise of neighbor\, respected Chamber member\, and friend\, is none other than the infamous jewel thief\, &quot\;The Nightingale\,&quot\; member of a notorious international crew whose heists have dazzled and baffled law enforcement around the world.<br />\n<br />\nNo one has ever seen The Nightingale&mdash\;aside from their crew. They have chosen our town as a place to lie low\, to blend in\, until the heat subsides from their last spectacular heist&mdash\;the daring theft of the legendary and priceless Empress&#39\; Heart.<br />\n<br />\nAn Interpol agent has come to town\, identifying a list of community members suspected of being acquainted with the criminal fraternity. And the situation becomes even more dire when a dead body is discovered in the parking lot of City Hall...<br />\n<br />\nWe ask you&mdash\;members of the community&mdash\;to form your own team of investigators for $60/team (includes up to four per team\; $15 for additional team members) at pickeringtonchamber.com/events.<br />\n<br />\nOn July 27\, 4-8 p.m.\, your team can wander Olde Pickerington Village\, interrogating suspects\, visiting clue stations and businesses\, getting tips from real detectives\, solving puzzles\, and obtaining CSI analysis. Can you identify the imposter and solve the crime?<br />\n<br />\n<strong>Teams who register by July 1 will receive detective kits and swag bags for each member. </strong>Register later/onsite\, and supplies may vary.<br />\n<br />\nEach month\,<em> Pickerington Online</em> will reveal new suspects involved in the Pickerington Murder Mystery Night. Follow the Pickerington Area Chamber on Facebook and Instagram as the mystery unravels. We need your help\, before even more secrets (and bodies) are buried. Win prizes too!
LOCATION:Stations\, businesses\, and locations throughout Olde Pickerington Village.
UID:e.1451.16826
SEQUENCE:3
DTSTAMP:20260421T215855Z
URL:https://business.pickeringtonchamber.com/events/details/pickerington-murder-mystery-night-2024-16826
END:VEVENT

END:VCALENDAR
