BEGIN:VCALENDAR
VERSION:2.0
PRODID:-//ChamberMaster//Event Calendar 2.0//EN
METHOD:PUBLISH
X-PUBLISHED-TTL:P3D
REFRESH-INTERVAL:P3D
CALSCALE:GREGORIAN
BEGIN:VEVENT
DTSTART:20191001T133000Z
DTEND:20191001T150000Z
X-MICROSOFT-CDO-ALLDAYEVENT:FALSE
SUMMARY:Pickerington Magazine Community Editorial Meeting
DESCRIPTION:We will be composing our 2020 editorial calendar for Pickerington Magazine very soon. With that in mind\, I would like to invite you to our annual community editorial meeting. We value your input\, especially because you are a person who we believe has an impact on the community\, and would love to hear from you.\n\n \n\nThis is an opportunity for the editorial staff at the magazine to meet and mingle with the people\, business owners\, organization leaders\, etc who are in the community every day and get your ideas for possible stories in 2020. Not only does this meeting give the community a chance to make its voice heard through a publication endorsed by the City and Violet Township\, but it also gives us at the magazine a chance to get connected to the important topics\, profiles\, and events that should be included in the 2020 issues.\n\n \n\nThe meeting will be held on Tuesday\, Oct. 1 at 8 a.m. at the Pickerington Public Library in the Digital Classroom. Since the library doesn't open until 9 a.m. on Tuesdays someone will be there to open the door. We'll bring the refreshments and light snacks - all you have to bring are your ideas!\n\n \n\nTo help you prepare and organize your thought and ideas\, know that in addition to the individual sections that appear in each edition of the magazine (Faces\, In Focus\, Student Spotlight\, and other features) every issue of Pickerington Magazine has a theme. At least one story relates to that theme. The themes for 2020 are: \n\nFebruary/March: Health and Fitness\n\nApril/May: Education\n\nJune/July: Food\n\nAugust/September: Kids\n\nOctober/November: Vibrant Seniors and Pets (dual theme)\n\nDecember/January: Holiday\n\nIf you have any questions\, or if you can't attend but still want to give some suggestions\, please send them my way. You can reach me at  lfreudenberg@cityscenemediagroup.com  or via phone at 614-572-1245.
X-ALT-DESC;FMTTYPE=text/html:<br />\n<span style="font-size:9.5pt\;">We will be composing our 2020&nbsp\;editorial</span>&nbsp\;calendar for&nbsp\;<strong><em><a href="https://www.cityscenecolumbus.com/communities/pickerington">Pickerington Magazine</a></em></strong>&nbsp\;very soon<em>.&nbsp\;</em>With that in mind\, I would like to&nbsp\;invite&nbsp\;you to our annual&nbsp\;community&nbsp\;editorial&nbsp\;meeting. We value your input\, especially because you are a person who we believe has an impact on the&nbsp\;community\, and would love to hear from you.<br />\n&nbsp\;<br />\n<span style="font-size:9.5pt\;">This is an opportunity for the&nbsp\;editorial</span>&nbsp\;staff at the magazine to meet and mingle with the people\, business owners\, organization&nbsp\;leaders\, etc who are in the&nbsp\;community&nbsp\;every day and get your ideas for possible stories in 2020. Not only does this&nbsp\;meeting&nbsp\;give the&nbsp\;community&nbsp\;a chance to make its voice heard through a publication endorsed by the City and Violet Township\, but it also gives us at the magazine a chance to get connected to the important topics\, profiles\, and events that should be included in the 2020 issues.<br />\n&nbsp\;<br />\n<span style="font-size:9.5pt\;">The&nbsp\;meeting</span>&nbsp\;will be held on&nbsp\;<strong>Tuesday\, Oct. 1 at 8 a.m.&nbsp\;</strong><strong><span style="font-size:12.0pt\;">at&nbsp\;</span></strong><strong><span style="color:black\;"><span style="font-family:arial\,sans-serif\;"><span style="font-size:12.0pt\;">the Pickerington Public Library in the Digital Classroom</span></span></span></strong><span style="color:black\;"><span style="font-family:arial\,sans-serif\;"><span style="font-size:12.0pt\;">. Since the library doesn&#39\;t open until 9 a.m. on Tuesdays someone will be there to open the door.&nbsp\;</span></span></span><span style="font-size:9.5pt\;">We&#39\;ll bring the refreshments and light snacks - all you have to bring are your ideas!</span><br />\n&nbsp\;<br />\n<span style="font-size:9.5pt\;">To help you prepare and organize your thought and ideas\, know that in addition to the individual sections that appear in each edition of the magazine (Faces\, In Focus\, Student Spotlight\, and other features) every issue of&nbsp\;<strong><em>Pickerington Magazine</em></strong>&nbsp\;has a theme. At least one story relates to that theme. The themes for 2020 are:&nbsp\;</span><br />\n<span style="font-size:9.5pt\;">February/March: Health and Fitness<br />\nApril/May: Education<br />\nJune/July: Food<br />\nAugust/September: Kids<br />\nOctober/November: Vibrant Seniors and Pets (dual theme)<br />\nDecember/January: Holiday</span><br />\n<span style="font-size:9.5pt\;">If you have any questions\, or if you can&rsquo\;t attend but still want to give some suggestions\, please send them my way. You can reach me at &nbsp\;<a href="mailto:lfreudenberg@cityscenemediagroup.com">lfreudenberg@cityscenemediagroup.com</a> &nbsp\;or via phone at 614-572-1245.</span>
LOCATION:Pickerington Public Library 201 Opportunity Way Pickerington\, OH 43147
UID:e.1451.13666
SEQUENCE:3
DTSTAMP:20260425T173243Z
URL:https://business.pickeringtonchamber.com/events/details/pickerington-magazine-community-editorial-meeting-13666
END:VEVENT

END:VCALENDAR
