BEGIN:VCALENDAR
VERSION:2.0
PRODID:-//ChamberMaster//Event Calendar 2.0//EN
METHOD:PUBLISH
X-PUBLISHED-TTL:P3D
REFRESH-INTERVAL:P3D
CALSCALE:GREGORIAN
BEGIN:VEVENT
DTSTART:20191024T223000Z
DTEND:20191025T003000Z
X-MICROSOFT-CDO-ALLDAYEVENT:FALSE
SUMMARY:Pickerington Lions Club Open Membership Meeting
DESCRIPTION:The Pickerington Lions will hold its Annual Membership Open House meeting on October 24 at The Loft at Combustion Brewery.\n\n\n\nAs in previous years\, the gathering and refreshments begin at 6:30 with the meeting starting at 7 pm. Light refreshments & desserts will be provided by club members.\n\n\n\nThere will be a cash bar in our meeting room where people can try some locally made beer if they like.\n\nSpeakers\, including reps from the Central Ohio Lions Eyebank and Pilot Dogs have been lined up to discuss how Lionism has made a difference in countless lives.\n\nPlease RSVP.  The first guest of 1\, represents you.  If you are attending\, select (1) for guest.  If you are bringing a guest\, select (2).
X-ALT-DESC;FMTTYPE=text/html:<p style="box-sizing: border-box\; -webkit-font-smoothing: antialiased\; margin: 0px 0px 2rem\; font-size: 16px\; color: rgb(92\, 84\, 79)\; font-family: Helvetica\, Arial\, sans-serif\; background-color: rgb(241\, 237\, 235)\;">The Pickerington Lions will hold its Annual Membership Open House meeting on October 24 at The Loft at Combustion Brewery.<br />\n<br style="box-sizing: border-box\;" />\nAs in previous years\, the gathering and refreshments begin at 6:30&nbsp\;with the meeting starting at 7 pm. Light refreshments &amp\; desserts&nbsp\;will be provided by club members.<br />\n<br />\nThere will be a cash bar in&nbsp\;our meeting room where people can try some locally made beer&nbsp\;if they like.</p>\n\n<p style="box-sizing: border-box\; -webkit-font-smoothing: antialiased\; margin: 0px 0px 2rem\; font-size: 16px\; color: rgb(92\, 84\, 79)\; font-family: Helvetica\, Arial\, sans-serif\; background-color: rgb(241\, 237\, 235)\;">Speakers\, including reps from the Central Ohio Lions Eyebank and&nbsp\;Pilot Dogs have been lined up to discuss how Lionism has made a&nbsp\;difference in countless lives.</p>\n\n<p style="box-sizing: border-box\; -webkit-font-smoothing: antialiased\; margin: 0px 0px 2rem\; font-size: 16px\; color: rgb(92\, 84\, 79)\; font-family: Helvetica\, Arial\, sans-serif\; background-color: rgb(241\, 237\, 235)\;">Please RSVP.&nbsp\;&nbsp\;The first guest of 1\, represents you.&nbsp\; If you are attending\, select (1) for guest.&nbsp\; If you are bringing a guest\, select (2).&nbsp\;&nbsp\;</p>\n
LOCATION:Combustion Brewery & Taproom 80 W. Church St. Pickerington
UID:e.1451.13730
SEQUENCE:3
DTSTAMP:20260425T190945Z
URL:https://business.pickeringtonchamber.com/events/details/pickerington-lions-club-open-membership-meeting-13730
END:VEVENT

END:VCALENDAR
