BEGIN:VCALENDAR
VERSION:2.0
PRODID:-//ChamberMaster//Event Calendar 2.0//EN
METHOD:PUBLISH
X-PUBLISHED-TTL:P3D
REFRESH-INTERVAL:P3D
CALSCALE:GREGORIAN
BEGIN:VEVENT
DTSTART:20201013T230000Z
DTEND:20201014T010000Z
X-MICROSOFT-CDO-ALLDAYEVENT:FALSE
SUMMARY:Personal Financial Management Workshop for High School Students
DESCRIPTION:About:\n\nThis workshop is giving your child the foundations in personal finance at a high school level. We start by introducing the concept and terminology of personal finance then we start learning how to win with money by saving\, budgeting\, investing and more. We also talk about the importance of insurance and how money can affect  relationships. We use the Dave Ramsey approved guidance and includes the following 12 topics:\n\n\n	Introduction to Personal Finance\n	Saving\n	Budgeting\n	Debt\n	Life After High School\n	Consumer Awareness\n	Bargain Shopping\n	Investing & Retirement\n	Insurance\n	Money & Relationships\n	Careers & Taxes\n	Giving\n\n\nOnly 20 seats available! Learn more or register by going to www.designandrenew.com/high-school\n\n\n\nKey Learnings:\n\n\n	What personal finance is\n	Importance of saving and investing in your future\n	How to budget effectively\n	Insurance\, taxes and being a bargain shopper\n	How money effects relationships\n	Value of being a joyful giver\n	How to manage finances after high school\n\nSchedule:\n\n\n	\n		\n			Virtual Workshop Schedule\n		\n		\n			September 15\n			7:00 PM - 9:00 PM EST\n		\n		\n			September 22\n			7:00 PM - 9:00 PM EST\n		\n		\n			September 29\n			7:00 PM - 9:00 PM EST\n		\n		\n			October 6\n			7:00 PM - 9:00 PM EST\n		\n		\n			October 13\n			7:00 PM - 9:00 PM EST\n		\n		\n			October 20\n			7:00 PM - 9:00 PM EST\n		\n		\n			October 27\n			7:00 PM - 9:00 PM EST\n		\n		\n			November 3\n			7:00 PM - 9:00 PM EST\n		\n		\n			November 10\n			7:00 PM - 9:00 PM EST\n		\n		\n			November 17\n			7:00 PM - 9:00 PM EST\n		\n		\n			December 1\n			7:00 PM - 9:00 PM EST\n		\n		\n			December 8\n			7:00 PM - 9:00 PM EST
X-ALT-DESC;FMTTYPE=text/html:<p><span style="font-size:18px"><strong>About:</strong></span><br />\nThis workshop is giving your child the foundations in personal finance at a high school level. We start by introducing the concept and terminology of personal finance then we start learning how to win with money by saving\, budgeting\, investing and more. We also talk about the importance of insurance and how money can affect&nbsp\; relationships. We use the Dave Ramsey approved guidance and includes the following 12 topics:</p>\n\n<ol>\n	<li>Introduction to Personal Finance</li>\n	<li>Saving</li>\n	<li>Budgeting</li>\n	<li>Debt</li>\n	<li>Life After High School</li>\n	<li>Consumer Awareness</li>\n	<li>Bargain Shopping</li>\n	<li>Investing &amp\; Retirement</li>\n	<li>Insurance</li>\n	<li>Money &amp\; Relationships</li>\n	<li>Careers &amp\; Taxes</li>\n	<li>Giving</li>\n</ol>\n\n<p>Only 20 seats available! Learn more or register by going to <a href="http://www.designandrenew.com/high-school">www.designandrenew.com/high-school</a><br />\n<br />\n<span style="font-size:18px"><strong>Key Learnings:</strong></span></p>\n\n<ul>\n	<li>What personal finance is</li>\n	<li>Importance of saving and investing in your future</li>\n	<li>How to budget effectively</li>\n	<li>Insurance\, taxes and being a bargain shopper</li>\n	<li>How money effects relationships</li>\n	<li>Value of being a joyful giver</li>\n	<li>How to manage finances after high school</li>\n</ul>\n<span style="font-size:18px"><strong>Schedule:</strong></span>\n\n<table style="color:rgb(3\, 152\, 158)\; font-family:helvetica\,sans-serif\; font-size:14px\; margin-left:auto\; margin-right:auto\; width:333.667px">\n	<tbody>\n		<tr>\n			<td colspan="2" style="text-align:center\; width:315.667px"><strong>Virtual Workshop Schedule</strong></td>\n		</tr>\n		<tr>\n			<td style="width:113px"><strong>September 15</strong></td>\n			<td style="width:202.667px"><strong>7:00 PM - 9:00 PM EST</strong></td>\n		</tr>\n		<tr>\n			<td style="width:113px"><strong>September 22</strong></td>\n			<td style="width:202.667px"><strong>7:00 PM - 9:00 PM EST</strong></td>\n		</tr>\n		<tr>\n			<td style="width:113px"><strong>September 29</strong></td>\n			<td style="width:202.667px"><strong>7:00 PM - 9:00 PM EST</strong></td>\n		</tr>\n		<tr>\n			<td style="width:113px"><strong>October 6</strong></td>\n			<td style="width:202.667px"><strong>7:00 PM - 9:00 PM EST</strong></td>\n		</tr>\n		<tr>\n			<td style="width:113px"><strong>October 13</strong></td>\n			<td style="width:202.667px"><strong>7:00 PM - 9:00 PM EST</strong></td>\n		</tr>\n		<tr>\n			<td style="width:113px"><strong>October 20</strong></td>\n			<td style="width:202.667px"><strong>7:00 PM - 9:00 PM EST</strong></td>\n		</tr>\n		<tr>\n			<td style="width:113px"><strong>October 27</strong></td>\n			<td style="width:202.667px"><strong>7:00 PM - 9:00 PM EST</strong></td>\n		</tr>\n		<tr>\n			<td style="width:113px"><strong>November 3</strong></td>\n			<td style="width:202.667px"><strong>7:00 PM - 9:00 PM EST</strong></td>\n		</tr>\n		<tr>\n			<td style="width:113px"><strong>November 10</strong></td>\n			<td style="width:202.667px"><strong>7:00 PM - 9:00 PM EST</strong></td>\n		</tr>\n		<tr>\n			<td style="width:113px"><strong>November 17</strong></td>\n			<td style="width:202.667px"><strong>7:00 PM - 9:00 PM EST</strong></td>\n		</tr>\n		<tr>\n			<td style="width:113px"><strong>December 1</strong></td>\n			<td style="width:202.667px"><strong>7:00 PM - 9:00 PM EST</strong></td>\n		</tr>\n		<tr>\n			<td style="width:113px"><strong>December 8</strong></td>\n			<td style="width:202.667px"><strong>7:00 PM - 9:00 PM EST</strong></td>\n		</tr>\n	</tbody>\n</table>\n
LOCATION:This is a virtual event through ZOOM The link will be sent to registrants two days prior to first event
UID:e.1451.14643
SEQUENCE:3
DTSTAMP:20260424T215616Z
URL:https://business.pickeringtonchamber.com/events/details/personal-financial-management-workshop-for-high-school-students-10-13-2020-14643
END:VEVENT

END:VCALENDAR
