BEGIN:VCALENDAR
VERSION:2.0
PRODID:-//ChamberMaster//Event Calendar 2.0//EN
METHOD:PUBLISH
X-PUBLISHED-TTL:P3D
REFRESH-INTERVAL:P3D
CALSCALE:GREGORIAN
BEGIN:VEVENT
DTSTART;VALUE=DATE:20190803
DTEND;VALUE=DATE:20190804
TRANSP:TRANSPARENT
X-MICROSOFT-CDO-ALLDAYEVENT:TRUE
SUMMARY:Pelotonia
DESCRIPTION:Join your friends and family for the Annual Pelotonia ride that comes through Downtown Pickerington on Saturday\, August 2nd.  This year\, Team Pickerington has grown even bigger\, so join us in cheering on the Team as they ride through town and head up the "big hill" towards their 25 mile stop.  \n\n\n\nThere will be several groups cheering on riders\, celebrating with friends and family\, and waiting for that special person to come through.  Join several businesses as they set-up tents\, cooks some great food\, and share their camaraderie with the entire Pickerington community.\n\n\n\nSetting up Downtown will be:\n\nSafelite Auto Glass - located in the Farmer's Market parking lot\n\nCombustion Brewery - located on the hill in front of the Brewery\n\nErnst & Young - located on W. Columbus St.\n\nThunder Tunnel Bikes - located on W. Columbus St.\n\nPickerington High School Central Cheerleaders - located on Center St.\n\n\n\nStop down and support the riders and welcome them to our town!
X-ALT-DESC;FMTTYPE=text/html:<br />\nJoin your friends and family for the <strong>Annual Pelotonia </strong>ride that comes through <strong>Downtown Pickerington</strong> on <strong>Saturday\, August 2nd.&nbsp\;</strong> This year\, <strong>Team Pickerington</strong> has grown even bigger\, so join us in cheering on the Team as they ride through town and head up the &quot\;big hill&quot\; towards their 25 mile stop.&nbsp\;&nbsp\;<br />\n<br />\nThere will be several groups cheering on riders\, celebrating with friends and family\, and waiting for that special person to come through.&nbsp\; Join several businesses as they set-up tents\, cooks some great food\, and share their camaraderie with the entire Pickerington community.<br />\n<br />\n<u><strong>Setting up Downtown will be:</strong></u><br />\nSafelite Auto Glass - located in the Farmer&#39\;s Market parking lot<br />\nCombustion Brewery - located on the hill in front of the Brewery<br />\nErnst &amp\; Young - located on W. Columbus St.<br />\nThunder Tunnel Bikes - located on W. Columbus St.<br />\nPickerington High School Central Cheerleaders - located on Center St.<br />\n<br />\nStop down and support the riders and welcome them to our town!
LOCATION:Downtown Pickerington
UID:e.1451.13433
SEQUENCE:3
DTSTAMP:20260425T203815Z
URL:https://business.pickeringtonchamber.com/events/details/pelotonia-13433
END:VEVENT

END:VCALENDAR
