BEGIN:VCALENDAR
VERSION:2.0
PRODID:-//ChamberMaster//Event Calendar 2.0//EN
METHOD:PUBLISH
X-PUBLISHED-TTL:P3D
REFRESH-INTERVAL:P3D
CALSCALE:GREGORIAN
BEGIN:VEVENT
DTSTART:20191012T170000Z
DTEND:20191012T190000Z
X-MICROSOFT-CDO-ALLDAYEVENT:FALSE
SUMMARY:"Passage on the Underground Railroad" @ Historical Museum
DESCRIPTION:Living history performer Darlene Gage portrays Amanda Baugh\, a widow with 4 children who became a conductor of the Underground Railroad during our 1860's Civil War. Hear her stories of helping runaway slaves make their way to freedom and what life was like during that period of U.S. history.
X-ALT-DESC;FMTTYPE=text/html:Living history performer Darlene Gage portrays Amanda Baugh\, a widow with 4 children who became a conductor of the Underground Railroad during our 1860&#39\;s Civil War. Hear her stories of helping runaway slaves make their way to freedom and what life was like during that period of U.S. history.
LOCATION:Pickerington-Violet Twp Historical Museum 15 E Columbus St - Lower Level Pickerington\, OH 43147
UID:e.1451.13646
SEQUENCE:3
DTSTAMP:20260425T190814Z
URL:https://business.pickeringtonchamber.com/events/details/passage-on-the-underground-railroad-historical-museum-13646
END:VEVENT

END:VCALENDAR
