BEGIN:VCALENDAR
VERSION:2.0
PRODID:-//ChamberMaster//Event Calendar 2.0//EN
METHOD:PUBLISH
X-PUBLISHED-TTL:P3D
REFRESH-INTERVAL:P3D
CALSCALE:GREGORIAN
BEGIN:VEVENT
DTSTART:20220721T153000Z
DTEND:20220721T170000Z
X-MICROSOFT-CDO-ALLDAYEVENT:FALSE
SUMMARY:PACC Quarterly Membership Luncheon
DESCRIPTION:Tracy Kitts\n\nConsultant\n\nFormer CAO of the International Economic Development Council\n\nFormer CEO & COO of the National Business Incubation Association\n\n \n\nCustomer Discovery \n\nHow do you know what your customers really want? Customer discovery is the art of asking the right questions to fully understand your customers' wants\, needs\, and pain points. It is an iterative process that can be used by businesses of any size\, and in any stage of their development and growth. During this interactive presentation\, Tracy will discuss the importance of customer discovery\, share best practices\, and give tips on how to ask the right questions to move your business forward.\n\n\n\n\n\nAbout the Speaker\n\nTracy has over 15 years experience as a C-level executive in association management and has over 25 years experience in entrepreneurship and entrepreneur support. He has helped start numerous companies and currently runs Tracy Kitts Consulting.\n\n\n\nTracy is currently a product manager at Ohio University. Prior to his current role\, he was the CAO of the International Economic Development Council (IEDC)\, long-time COO of the National Business Incubation Association (NBIA)\, and director of a business incubation program for nine years. He is a noted expert on entrepreneur support and has contributed to numerous works on industry best practices. He has been asked to speak on topics related to entrepreneurship in countries around the world and has developed\, and delivered\, train-the-trainer programs on the topic.\n\n\n\nFurther\, Tracy has worked in software development\, web application development\, early-stage equity financing\, and real estate development. He has also done extensive public speaking on building effective teams and respect in the workplace. He has a bachelor's degree in Human Resource Management and an MBA from Ohio University.
X-ALT-DESC;FMTTYPE=text/html:<br />\n<br />\n<strong>Tracy Kitts</strong><br />\n<em>Consultant<br />\nFormer CAO of the International Economic Development Council<br />\nFormer CEO &amp\; COO of the National Business Incubation Association</em><br />\n&nbsp\;<br />\n<strong>Customer Discovery</strong>&nbsp\;<br />\nHow do you know what your&nbsp\;customers&nbsp\;really want? Customer discovery is the art of asking the right questions to fully understand your customers&#39\; wants\, needs\, and pain points.&nbsp\;It is an iterative process that can be used by businesses of any size\, and in any stage of their development and growth.&nbsp\;During this interactive presentation\, Tracy will discuss the importance of customer discovery\, share best practices\, and give tips on how to ask the right questions to move your business forward.<br />\n<br />\n<br />\n<strong>About the Speaker</strong><br />\nTracy has over 15 years experience as a C-level executive in association management and has over 25 years experience in entrepreneurship and entrepreneur support. He has helped start numerous companies and currently runs Tracy Kitts Consulting.<br />\n<br />\nTracy is currently a product manager at Ohio University. Prior to his current role\, he was the CAO of the International Economic Development Council (IEDC)\, long-time COO of the National Business Incubation Association (NBIA)\, and director of a business incubation program for nine years. He is a noted expert on entrepreneur support and has contributed to numerous works on industry best practices. He has been asked to speak on topics related to entrepreneurship in countries around the world and has developed\, and delivered\, train-the-trainer programs on the topic.<br />\n<br />\nFurther\, Tracy has worked in software development\, web application development\, early-stage equity financing\, and real estate development. He has also done extensive public speaking on building effective teams and respect in the workplace. He has a bachelor&rsquo\;s degree in Human Resource Management and an MBA from Ohio University.&nbsp\;<br />\n&nbsp\;<br />\n&nbsp\;
LOCATION:Pickerington Senior Center 150 Hereford Dr.
UID:e.1451.15729
SEQUENCE:3
DTSTAMP:20260423T135308Z
URL:https://business.pickeringtonchamber.com/events/details/pacc-quarterly-membership-luncheon-15729
END:VEVENT

END:VCALENDAR
