BEGIN:VCALENDAR
VERSION:2.0
PRODID:-//ChamberMaster//Event Calendar 2.0//EN
METHOD:PUBLISH
X-PUBLISHED-TTL:P3D
REFRESH-INTERVAL:P3D
CALSCALE:GREGORIAN
BEGIN:VEVENT
DTSTART:20210504T130000Z
DTEND:20210504T140000Z
X-MICROSOFT-CDO-ALLDAYEVENT:FALSE
SUMMARY:PACC Presents- Census Data for Your Business!
DESCRIPTION:Use Data to Make Informed Business Decisions   Census Data for Small Businesses\n\nAre you looking for data to help you start or grow a business or understand the business landscape for a region?  The Census Business Builder provides easy access to information about the residents and businesses to help you open or expand your business. The tool presents key information that entrepreneurs and small business owners need to better understand their market.  This workshop will start with an introduction to the Census Business Builder to help you become familiar with the many different types of demographic and economic data contained in it.  This will be followed by a live demonstration of the key features and functionalities of the Census Business Builder.  The goal is to familiarize you with the Census Business Builder so that you can use it to research your own business.\n \n\n\n\nTim Sarko has worked for the U.S. Census Bureau for the past 25 years and is currently a Data Dissemination Specialist (DDS).  He lives and works in the Cleveland\, Ohio area and covers all of Ohio.  He started in his current position as a DDS in 2011.  Before that\, he worked as a Supervisory Statistician for the Census Bureau's Charlotte Regional Office since 1995\, supervising almost all of the surveys conducted by the Census Bureau.  Tim grew up in Cleveland\, OH and attended The Ohio State University.
X-ALT-DESC;FMTTYPE=text/html:&nbsp\;\n<div style="text-align: center\;"><span style="font-size:14px\;"><span style="font-family:arial\;"><span style="font-size:16px\;"><em><strong><span style="color:black\;">Use Data to Make Informed Business Decisions &ndash\; Census Data for Small Businesses</span></strong></em></span></span></span></div>\n\n<div style="text-align: center\;"><span style="font-size:14px\;"><span style="font-family:arial\;">Are you looking for data to help you start or grow a business or understand the business landscape for a region?&nbsp\; The Census Business Builder provides easy access to information about the residents and businesses to help you open or expand your business. The tool presents key information that entrepreneurs and small business owners need to better understand their market.&nbsp\; This workshop will start with an introduction to the Census Business Builder to help you become familiar with the many different types of demographic and economic data contained in it.&nbsp\; This will be followed by a live demonstration of the key features and functionalities of the Census Business Builder.&nbsp\; The goal is to familiarize you with the Census Business Builder so that you can use it to research your own business.</span></span></div>\n&nbsp\;\n\n<div style="text-align: center\;"><br />\n<span style="font-size:14px\;"><span style="font-family:arial\;"><span style="font-size:16px\;"><strong><em>Tim Sarko</em></strong></span> has</span></span><span style="font-size:12.0pt\;"><span style="font-size:14px\;"><span style="font-family:arial\;">&nbsp\;worked for the U.S. Census Bureau for the past 25 years and is&nbsp\;currently a Data Dissemination Specialist (DDS).&nbsp\; He&nbsp\;lives and works in the Cleveland\, Ohio area and covers all of Ohio.&nbsp\; He started in his&nbsp\;current position as a DDS in 2011.&nbsp\; Before that\, he&nbsp\;worked as a Supervisory Statistician for the Census Bureau&#39\;s Charlotte Regional Office since 1995\, supervising&nbsp\;almost all of the surveys conducted by the Census Bureau.&nbsp\; Tim grew up in Cleveland\, OH and attended The Ohio State University.&nbsp\;</span></span> </span><br />\n&nbsp\;</div>\n<br />\n<br />\n<br />\n<br />\n&nbsp\;
LOCATION:Virtual
UID:e.1451.15053
SEQUENCE:3
DTSTAMP:20260424T124304Z
URL:https://business.pickeringtonchamber.com/events/details/pacc-presents-census-data-for-your-business-15053
END:VEVENT

END:VCALENDAR
