BEGIN:VCALENDAR
VERSION:2.0
PRODID:-//ChamberMaster//Event Calendar 2.0//EN
METHOD:PUBLISH
X-PUBLISHED-TTL:P3D
REFRESH-INTERVAL:P3D
CALSCALE:GREGORIAN
BEGIN:VEVENT
DTSTART:20230728T130000Z
DTEND:20230728T180000Z
X-MICROSOFT-CDO-ALLDAYEVENT:FALSE
SUMMARY:PACC & OhioHealth Golf Classic
DESCRIPTION:Join us on Friday\, July 28\, for the PACC & OhioHealth Golf Classic\, held at Pine Hill Golf Club! Cost: $85/person or $340/team (members and nonmembers). If teammates want to sign up individually\, assign a name for the team and put it in the comments section\, so we know to pair you together. (It can be one of the four people's name or get creative!)\n\n\n\nThis event is the most fun event of the year where you have a chance to enjoy a day of golf\, food\, prizes\, snacks\, and camaraderie. It is a "Can't Miss" event! \n\n\n\nMore info in right-hand column.
X-ALT-DESC;FMTTYPE=text/html:<span style="color: rgb(0\, 0\, 0)\; font-family: Arial\, Helvetica\, sans-serif\; font-size: 14.6667px\;">Join us on&nbsp\;</span><strong style="color: rgb(0\, 0\, 0)\; font-family: Arial\, Helvetica\, sans-serif\; font-size: 14.6667px\;">Friday\, July 28\,</strong><span style="color: rgb(0\, 0\, 0)\; font-family: Arial\, Helvetica\, sans-serif\; font-size: 14.6667px\;">&nbsp\;for the&nbsp\;</span><strong style="color: rgb(0\, 0\, 0)\; font-family: Arial\, Helvetica\, sans-serif\; font-size: 14.6667px\;">PACC &amp\; OhioHealth Golf Classic</strong><span style="color: rgb(0\, 0\, 0)\; font-family: Arial\, Helvetica\, sans-serif\; font-size: 14.6667px\;">\, </span><span style="color: rgb(0\, 0\, 0)\; font-family: Arial\, Helvetica\, sans-serif\; font-size: 14.6667px\;">held at&nbsp\;</span><strong style="color: rgb(0\, 0\, 0)\; font-family: Arial\, Helvetica\, sans-serif\; font-size: 14.6667px\;">Pine Hill Golf Club! </strong><span style="font-size:14px\;"><span style="font-family:verdana\;">Cost: $85/person or $340/team (members and nonmembers). If teammates want to sign up individually\, assign a name for the team and put it in the comments section\, so we know to pair you together. (It can be one of the four people&#39\;s name or get creative!)</span></span><br style="color: rgb(0\, 0\, 0)\; font-family: Arial\, Helvetica\, sans-serif\; font-size: 14.6667px\;" />\n<br style="color: rgb(0\, 0\, 0)\; font-family: Arial\, Helvetica\, sans-serif\; font-size: 14.6667px\;" />\n<span style="color: rgb(0\, 0\, 0)\; font-family: Arial\, Helvetica\, sans-serif\; font-size: 14.6667px\;">This event is the most fun event of the year where you have a chance to enjoy a day of golf\, food\, prizes\, snacks\, and camaraderie. It is a &quot\;Can&#39\;t Miss&quot\; event!&nbsp\;<br />\n<br />\nMore info in right-hand column.</span><br />\n<br />\n<br />\n&nbsp\;
LOCATION:Pine Hill Golf Club 4382 Kauffman Rd. NW Carroll\, Ohio 43112
UID:e.1451.16679
SEQUENCE:3
DTSTAMP:20260422T172748Z
URL:https://business.pickeringtonchamber.com/events/details/pacc-ohiohealth-golf-classic-16679
END:VEVENT

END:VCALENDAR
