BEGIN:VCALENDAR
VERSION:2.0
PRODID:-//ChamberMaster//Event Calendar 2.0//EN
METHOD:PUBLISH
X-PUBLISHED-TTL:P3D
REFRESH-INTERVAL:P3D
CALSCALE:GREGORIAN
BEGIN:VEVENT
DTSTART:20210520T153000Z
DTEND:20210520T170000Z
X-MICROSOFT-CDO-ALLDAYEVENT:FALSE
SUMMARY:PACC Monthly Membership Luncheon - "State of the Chamber"
DESCRIPTION:Join us on Thursday\, May 20\, 2021\, as we Re-Launch in-person networking at the Monthly Membership Luncheon!  During this event we will provide a "State of the Chamber" update\, meet our Board members\, connect with your fellow members and enjoy Barbie's spinach salad!\n\n\n\nSign up today to reserve your spot!
X-ALT-DESC;FMTTYPE=text/html:<br />\nJoin us on <strong>Thursday\, May 20\, 2021\, a</strong>s we Re-Launch in-person networking at the<strong> Monthly Membership Luncheon!&nbsp\;</strong> During this event we will provide a &quot\;<strong>State of the Chamber&quot\; </strong>update\, meet our Board members\, connect with your fellow members and enjoy <u><strong>Barbie&#39\;s spinach salad!</strong></u><br />\n<br />\nSign up today to reserve your spot!&nbsp\;&nbsp\;&nbsp\;&nbsp\;
LOCATION:Pickerington Senior Center 150 Hereford Dr. Pickerington\, OH
UID:e.1451.15024
SEQUENCE:3
DTSTAMP:20260424T112837Z
URL:https://business.pickeringtonchamber.com/events/details/pacc-monthly-membership-luncheon-state-of-the-chamber-15024
END:VEVENT

END:VCALENDAR
