BEGIN:VCALENDAR
VERSION:2.0
PRODID:-//ChamberMaster//Event Calendar 2.0//EN
METHOD:PUBLISH
X-PUBLISHED-TTL:P3D
REFRESH-INTERVAL:P3D
CALSCALE:GREGORIAN
BEGIN:VEVENT
DTSTART:20210819T153000Z
DTEND:20210819T170000Z
X-MICROSOFT-CDO-ALLDAYEVENT:FALSE
SUMMARY:PACC Monthly Luncheon - "Innovate to Dominate"
DESCRIPTION:Join us on Thursday\, August 19\, 2021\, for the Monthly Membership Luncheon\, as Randy Gerber shares the important insights gained while helping business owners work through the challenges of 2020. This includes helping businesses make valuable pivots\, implement strategy\, and continuously innovate to succeed. Entrepreneurs and business leaders will find out how to implement the lessons of 2020 so they can dominate!\n\n\n\nKey take-aways:\n\n	The importance of staying up to date on the surrounding world\n	How to continuously innovate to succeed
X-ALT-DESC;FMTTYPE=text/html:<br />\nJoin us on <strong>Thursday\, August 19\, 2021\,</strong> for the <strong>Monthly Membership Luncheon\,</strong> as <strong>Randy Gerber </strong>shares t<span style="font-family:arial\,sans-serif\;">he important insights gained while helping business owners work through the challenges of 2020. This includes helping businesses make valuable pivots\, implement strategy\, and continuously innovate to succeed. Entrepreneurs and business leaders will find out how to implement the lessons of 2020 so they can dominate!<br />\n<br />\nKey take-aways:</span>\n<ul style="list-style-type:circle\;">\n	<li><span style="font-family:arial\,sans-serif\;">The importance of staying up to date on the surrounding world</span></li>\n	<li><span style="font-family:arial\,sans-serif\;">How to continuously innovate to succeed</span></li>\n</ul>\n<span style="font-family:arial\,sans-serif\;"> </span>
LOCATION:Pickerington Senior Center
UID:e.1451.15039
SEQUENCE:3
DTSTAMP:20260424T075712Z
URL:https://business.pickeringtonchamber.com/events/details/pacc-monthly-luncheon-innovate-to-dominate-15039
END:VEVENT

END:VCALENDAR
