BEGIN:VCALENDAR
VERSION:2.0
PRODID:-//ChamberMaster//Event Calendar 2.0//EN
METHOD:PUBLISH
X-PUBLISHED-TTL:P3D
REFRESH-INTERVAL:P3D
CALSCALE:GREGORIAN
BEGIN:VEVENT
DTSTART:20211021T150000Z
DTEND:20211021T170000Z
X-MICROSOFT-CDO-ALLDAYEVENT:FALSE
SUMMARY:PACC Membership Luncheon - "Candidate Forum 2021"
DESCRIPTION:Join us on Thursday\, October 21st\, from 11 a.m. to 1 p.m. as we host the Annual Candidate Forum\, presented by the Business Advocacy Committee of the Pickerington Area Chamber.  This event will feature a chance to connect with candidates seeking a public office during the Fall election season.  The event is moderated by the committee and will provide each candidate with a chance to share a little about themselves and their vision for a stronger organization\, with which they seek.\n\n\n\nSo\, far the following candidates have signed up to attend:\n\nMark Hensen - Pickerington School Board Candidate\n\nMark Matthews - Violet Township Trustee Candidate\n\nMelissa Wilde - Violet Township Trustee Candidate\n\nShelby Hunt - Violet Township Trustee Candidate\n\nTerry Dunlap - Violet Township Trustee Candidate\n\nChristian Johnson - Pickerington School Board Candidate\n\nCharles Newman - Pickerington School Board Candidate\n\nKevin Kemper - Pickerington City Council Candidate\n\nRyan Holstine - Pickerington School Board Candidate\n\nTony Barletta - Pickerington City Council Candidate\n\nCornelius McGrady - Pickerington City Council Candidate\n\nVanessa Hayes-Williams - Pickerington School Board Candidate\n\n \n\n\n\nStay tuned as more candidates get signed up to attend!  RSVP early as this event will fill up fast!
X-ALT-DESC;FMTTYPE=text/html:<br />\nJoin us on <strong>Thursday\, October 21st\, f</strong>rom <strong>11 a.m. to 1 p.m. </strong>as we host the <strong>Annual Candidate Forum\,</strong> presented by the <strong>Business Advocacy Committee of the Pickerington Area Chamber.&nbsp\; </strong>This event will feature a chance to connect with candidates seeking a public office during the Fall election season.&nbsp\; The event is moderated by the committee and will provide each candidate with a chance to share a little about themselves and their vision for a stronger organization\, with which they seek.<br />\n<br />\nSo\, far the following candidates have signed up to attend:<br />\n<strong>Mark Hensen </strong>- Pickerington School Board Candidate<br />\n<strong>Mark Matthews</strong> - Violet Township Trustee Candidate<br />\n<strong>Melissa Wilde</strong>&nbsp\;- Violet Township Trustee Candidate<br />\n<strong>Shelby Hunt</strong> - Violet Township Trustee Candidate<br />\n<b>Terry Dunlap</b> - Violet Township Trustee Candidate<br />\n<strong>Christian Johnson</strong>&nbsp\;- Pickerington School Board Candidate<br />\n<strong>Charles Newman</strong> - Pickerington School Board Candidate<br />\n<strong>Kevin Kemper</strong> - Pickerington City Council Candidate<br />\n<strong>Ryan Holstine</strong> - Pickerington School Board Candidate<br />\n<strong>Tony Barletta</strong> - Pickerington City Council Candidate<br />\n<b>Cornelius McGrady</b>&nbsp\;- Pickerington City Council Candidate<br />\n<strong>Vanessa Hayes-Williams</strong> - Pickerington School Board Candidate<br />\n&nbsp\;<br />\n<br />\nStay tuned as more candidates get signed up to attend!&nbsp\; RSVP early as this event will fill up fast!
LOCATION:Pickerington Senior Center 150 Hereford Dr.
UID:e.1451.15338
SEQUENCE:3
DTSTAMP:20260424T030735Z
URL:https://business.pickeringtonchamber.com/events/details/pacc-membership-luncheon-candidate-forum-2021-15338
END:VEVENT

END:VCALENDAR
