BEGIN:VCALENDAR
VERSION:2.0
PRODID:-//ChamberMaster//Event Calendar 2.0//EN
METHOD:PUBLISH
X-PUBLISHED-TTL:P3D
REFRESH-INTERVAL:P3D
CALSCALE:GREGORIAN
BEGIN:VEVENT
DTSTART:20220709T170000Z
DTEND:20220709T210000Z
X-MICROSOFT-CDO-ALLDAYEVENT:FALSE
SUMMARY:PACC & Cardo's Golf Classic
DESCRIPTION:Join us on Saturday\, July 9th for the PACC & Cardo's Golf Classic\, being held at Cumberland Trail Golf Club! Cost: $90/person or $360/team (member and nonmembers). If teammates want to sign up individually\, assign a name for the team and put it in the comments section\, so we know to pair you together. (It can be one of the four people's name or get creative!)\n\n\n\nThis event is the "premier" event of the year where you have a chance to enjoy a day of golf\, lunch\, prizes\, snacks\, and camaraderie. It is a "Can't Miss" event!
X-ALT-DESC;FMTTYPE=text/html:<span style="color: rgb(0\, 0\, 0)\; font-family: Arial\, Helvetica\, sans-serif\; font-size: 14.6667px\;">Join us on&nbsp\;</span><strong style="color: rgb(0\, 0\, 0)\; font-family: Arial\, Helvetica\, sans-serif\; font-size: 14.6667px\;">Saturday\, July 9th</strong><span style="color: rgb(0\, 0\, 0)\; font-family: Arial\, Helvetica\, sans-serif\; font-size: 14.6667px\;">&nbsp\;for the&nbsp\;</span><strong style="color: rgb(0\, 0\, 0)\; font-family: Arial\, Helvetica\, sans-serif\; font-size: 14.6667px\;">PACC &amp\; Cardo&#39\;s Golf Classic</strong><span style="color: rgb(0\, 0\, 0)\; font-family: Arial\, Helvetica\, sans-serif\; font-size: 14.6667px\;">\, bein</span><span style="color: rgb(0\, 0\, 0)\; font-family: Arial\, Helvetica\, sans-serif\; font-size: 14.6667px\;">g held at&nbsp\;</span><strong style="color: rgb(0\, 0\, 0)\; font-family: Arial\, Helvetica\, sans-serif\; font-size: 14.6667px\;">Cumberland Trail Golf Club! Cost: $90/person or $360/team (member and nonmembers).</strong><strong style="color: rgb(0\, 0\, 0)\; font-family: Arial\, Helvetica\, sans-serif\; font-size: 14.6667px\;"> If teammates want to sign up individually\, assign a name for the team and put it in the comments section\, so we know to pair you together. (It can be one of the four people&#39\;s name or get creative!)</strong><br style="color: rgb(0\, 0\, 0)\; font-family: Arial\, Helvetica\, sans-serif\; font-size: 14.6667px\;" />\n<br style="color: rgb(0\, 0\, 0)\; font-family: Arial\, Helvetica\, sans-serif\; font-size: 14.6667px\;" />\n<span style="color: rgb(0\, 0\, 0)\; font-family: Arial\, Helvetica\, sans-serif\; font-size: 14.6667px\;">This event is the &quot\;premier&quot\; event of the year where you have a chance to enjoy a day of golf\, lunch\, prizes\, snacks\, and camaraderie. It is a &quot\;Can&#39\;t Miss&quot\; event!&nbsp\;</span><br />\n<br />\n<br />\n&nbsp\;
LOCATION:Cumberland Trail Golf Club 8244 Columbia Rd. SW Pataskala\, Oh 43062
UID:e.1451.15768
SEQUENCE:3
DTSTAMP:20260423T123414Z
URL:https://business.pickeringtonchamber.com/events/details/pacc-cardo-s-golf-classic-15768
END:VEVENT

END:VCALENDAR
