BEGIN:VCALENDAR
VERSION:2.0
PRODID:-//ChamberMaster//Event Calendar 2.0//EN
METHOD:PUBLISH
X-PUBLISHED-TTL:P3D
REFRESH-INTERVAL:P3D
CALSCALE:GREGORIAN
BEGIN:VEVENT
DTSTART:20210610T213000Z
DTEND:20210611T003000Z
X-MICROSOFT-CDO-ALLDAYEVENT:FALSE
SUMMARY:PACC Annual Awards Celebration
DESCRIPTION:Join us for the Annual Awards Celebration presented by OhioHealth on Thursday\, June 10th from 5:30 p.m. to 8:30 p.m. at the Wigwam Event Center! This is the largest event of the year and a can't miss opportunity to celebrate the business community\, share updates from the past year\, and make new connections throughout the evening while enjoying live music!\n\n\n\nThe schedule for this year: \n\n\n\n5:30 p.m. Doors open & Hors d'oeuvres will be served\n\n6:30 p.m. Dinner Buffet \n\n7:00 p.m. Awards Program\n\n7:30 p.m. Party time!\n\n\n\nWe look forward to celebrating ALL of our Award Nominees and hope you will join us at this Annual Event!  \n\n\n\nCongratulations to the 2020 Award Nominees & Recipients:\n\n\n\nDoug Barr Safety Award Recipients\n\nFairfield Department of Health\n\nFairfield County Emergency Management Agency\n\n\n\nBusiness of the Year Nominees\n\nFive Star Painting\n\nMarcoin Business Services\n\nZ Promotions\n\n\n\nRising Star Award Nominees\n\nAce Handyman Services\n\nThe Humble Crate Artisan Marketplace\n\nPorter's Coffee House & Bakery\n\n\n\nNon-Profit of the Year Nominees\n\nBottoms Up Diaper Drive\n\nFAIRHOPE Hospice & Palliative Care\n\nPickerington Farmer's Market
X-ALT-DESC;FMTTYPE=text/html:<br />\n<span style="font-size:16px\;"><span style="font-family:verdana\;">Join us for the <strong>Annual Awards Celebration presented by OhioHealth&nbsp\;</strong>on<strong> Thursday\, June 10th from 5:30 p.m. to 8:30 p.m. </strong>at the<strong> Wigwam Event Center! </strong>This is the largest event of the year and a can&#39\;t miss opportunity to celebrate the business community\, share updates from the past year\, and make new connections throughout the evening while enjoying live music!<br />\n<br />\n<strong>The schedule for this year:&nbsp\;</strong><br />\n<br />\n5:30 p.m. Doors open &amp\;&nbsp\;Hors d&#39\;oeuvres will be served<br />\n6:30 p.m.&nbsp\;Dinner Buffet&nbsp\;<br />\n7:00 p.m. Awards Program<br />\n7:30 p.m. Party time!<br />\n<br />\nWe look forward to celebrating ALL of our Award Nominees and hope you will join us at this Annual Event!&nbsp\;&nbsp\;<br />\n<br />\n<strong>Congratulations to the 2020 Award Nominees &amp\; Recipients:</strong><br />\n<br />\n<strong>Doug Barr Safety Award Recipients</strong><br />\nFairfield Department of Health<br />\nFairfield County Emergency Management Agency<br />\n<br />\n<strong>Business of the Year Nominees</strong><br />\nFive Star Painting<br />\nMarcoin Business Services<br />\nZ Promotions<br />\n<br />\n<strong>Rising Star Award Nominees</strong><br />\nAce Handyman Services<br />\nThe Humble Crate Artisan Marketplace<br />\nPorter&#39\;s Coffee House &amp\; Bakery<br />\n<br />\n<strong>Non-Profit of the Year Nominees</strong><br />\nBottoms Up Diaper Drive<br />\nFAIRHOPE Hospice &amp\; Palliative Care<br />\nPickerington Farmer&#39\;s Market</span></span>
LOCATION:Wigwam Event Center 10190 Blacklick Eastern Rd. NW Pickerington\, OH
UID:e.1451.15040
SEQUENCE:3
DTSTAMP:20260424T110737Z
URL:https://business.pickeringtonchamber.com/events/details/pacc-annual-awards-celebration-15040
END:VEVENT

END:VCALENDAR
