BEGIN:VCALENDAR
VERSION:2.0
PRODID:-//ChamberMaster//Event Calendar 2.0//EN
METHOD:PUBLISH
X-PUBLISHED-TTL:P3D
REFRESH-INTERVAL:P3D
CALSCALE:GREGORIAN
BEGIN:VEVENT
DTSTART:20220914T200000Z
DTEND:20220914T220000Z
X-MICROSOFT-CDO-ALLDAYEVENT:FALSE
SUMMARY:PACC After Hours at Cardo's
DESCRIPTION:Join us a Cardo's Pizza and Tavern for after hours networking from 4-6 p.m. on Wednesday\, September 14!
X-ALT-DESC;FMTTYPE=text/html:Join us a Cardo&#39\;s Pizza and Tavern for after hours networking from 4-6 p.m. on Wednesday\, September 14!
LOCATION:Cardo's Pizza and Tavern
UID:e.1451.15774
SEQUENCE:3
DTSTAMP:20260423T092443Z
URL:https://business.pickeringtonchamber.com/events/details/pacc-after-hours-at-cardo-s-15774
END:VEVENT

END:VCALENDAR
