BEGIN:VCALENDAR
VERSION:2.0
PRODID:-//ChamberMaster//Event Calendar 2.0//EN
METHOD:PUBLISH
X-PUBLISHED-TTL:P3D
REFRESH-INTERVAL:P3D
CALSCALE:GREGORIAN
BEGIN:VEVENT
DTSTART:20220824T203000Z
DTEND:20220824T230000Z
X-MICROSOFT-CDO-ALLDAYEVENT:FALSE
SUMMARY:PACC After Hours at American Motorcycle Hall of Fame Museum
DESCRIPTION:Join us at the American Motorcyclist Association's Motorcycle Hall of Fame Museum for after hours networking from 4:30-7 p.m. on Wednesday\, August 24. Event includes admission to the museum\, plus hors d'oeuvres and cash bar.
X-ALT-DESC;FMTTYPE=text/html:Join us at the American Motorcyclist Association&#39\;s Motorcycle Hall of Fame Museum for after hours networking from 4:30-7 p.m. on Wednesday\, August 24. Event includes admission to the museum\, plus hors d&#39\;oeuvres and cash bar.
LOCATION:American Motorcyclist Association Motorcycle Hall of Fame Museum 13515 Yarmouth Dr. Pickerington\, OH 43147
UID:e.1451.15778
SEQUENCE:3
DTSTAMP:20260423T105953Z
URL:https://business.pickeringtonchamber.com/events/details/pacc-after-hours-at-american-motorcycle-hall-of-fame-museum-15778
END:VEVENT

END:VCALENDAR
