BEGIN:VCALENDAR
VERSION:2.0
PRODID:-//ChamberMaster//Event Calendar 2.0//EN
METHOD:PUBLISH
X-PUBLISHED-TTL:P3D
REFRESH-INTERVAL:P3D
CALSCALE:GREGORIAN
BEGIN:VEVENT
DTSTART:20201209T230000Z
DTEND:20201210T000000Z
X-MICROSOFT-CDO-ALLDAYEVENT:FALSE
SUMMARY:Overbooked Book Club for teens
DESCRIPTION:A YA book club for teens! Register below to receive book club meeting information through email.\n\n\n\n\n\nWhat books will we be reading? Find out here! https://pickeringtonlibrary.org/services/adults/book-clubs/   \n\nOur final selections for 2020 are "Lovely War" by Julie Berry\, a WWI tale where the Greek gods meddle in the lives of four unsuspecting people\, or "Harlem Hellfighters" by Max Brooks\, a non-fiction graphic novel about the heroic actions of the Harlem Hellfighters unit during WWI (which features heavily in "Lovely War"). Read either or both (in this case\, both might be a good choice!).
X-ALT-DESC;FMTTYPE=text/html:<div>\n<div>\n<div style="margin-left:auto\; margin-right:auto">\n<p>A YA book club for teens! Register below to receive book club meeting information through email.</p>\n</div>\n</div>\n</div>\n\n<div>\n<p>What books will we be reading? Find out here! https://pickeringtonlibrary.org/services/adults/book-clubs/&nbsp\; &nbsp\;</p>\n\n<p>Our final selections for 2020 are &quot\;Lovely War&quot\; by Julie Berry\, a WWI tale where the Greek gods meddle in the lives of four unsuspecting people\, or &quot\;Harlem Hellfighters&quot\; by Max Brooks\, a non-fiction graphic novel about the heroic actions of the Harlem Hellfighters unit during WWI (which features heavily in &quot\;Lovely War&quot\;). Read either or both (in this case\, both might be a good choice!).&nbsp\;</p>\n</div>\n
LOCATION:
UID:e.1451.14825
SEQUENCE:3
DTSTAMP:20260424T201412Z
URL:https://business.pickeringtonchamber.com/events/details/overbooked-book-club-for-teens-14825
END:VEVENT

END:VCALENDAR
