BEGIN:VCALENDAR
VERSION:2.0
PRODID:-//ChamberMaster//Event Calendar 2.0//EN
METHOD:PUBLISH
X-PUBLISHED-TTL:P3D
REFRESH-INTERVAL:P3D
CALSCALE:GREGORIAN
BEGIN:VEVENT
DTSTART:20200924T200000Z
DTEND:20200924T230000Z
X-MICROSOFT-CDO-ALLDAYEVENT:FALSE
SUMMARY:Outdoor Farmers' Market
DESCRIPTION:This is our last outdoor farmers' market of the season!\n\nOur summer farmers' market\; a weekly gathering of area farmers\, bakers and artisans offering fresh produce\, baked goods\, crafts and more at this North Center Street location with plenty of parking. Located one block north of SR 256 in the Pickerington Village.
X-ALT-DESC;FMTTYPE=text/html:<span style="color: rgb(38\, 51\, 51)\; font-family: &quot\;Source Sans Pro&quot\;\; font-size: 16px\; white-space: pre-wrap\; background-color: rgb(240\, 244\, 244)\;">This is our last outdoor farmers&#39\; market of the season!<br />\nOur summer farmers&rsquo\; market\; a weekly gathering of area farmers\, bakers and artisans offering fresh produce\, baked goods\, crafts and more at this North Center Street location with plenty of parking. Located one block north of SR 256 in the Pickerington Village.</span>
LOCATION:89 N Center St Pickerington\, OH 43147 (at Town Square Drive) north of the railroad tracks
UID:e.1451.14289
SEQUENCE:3
DTSTAMP:20260424T233856Z
URL:https://business.pickeringtonchamber.com/events/details/outdoor-farmers-market-09-24-2020-14289
END:VEVENT

END:VCALENDAR
