BEGIN:VCALENDAR
VERSION:2.0
PRODID:-//ChamberMaster//Event Calendar 2.0//EN
METHOD:PUBLISH
X-PUBLISHED-TTL:P3D
REFRESH-INTERVAL:P3D
CALSCALE:GREGORIAN
BEGIN:VEVENT
DTSTART:20211007T220000Z
DTEND:20211007T233000Z
X-MICROSOFT-CDO-ALLDAYEVENT:FALSE
SUMMARY:OUL Financial Literacy Series: Student Loans
DESCRIPTION:Ohio University Lancaster will host a Financial Literacy Seminar Series beginning October 7. The series is sponsored by Park National Bank\, Fairfield Federal Savings and Loan and Standing Stone Bank. These educational seminars will be free to attend and open to the public.\n\n\n\nThe Financial Literacy Seminar Series will cover a wide range of topics. Park National Bank will be teaching how to start a small business\, budgeting basics\, retirement planning\, and stock investing. Fairfield Federal Savings and Loan will share their expertise in buying and selling a home\, mortgage types\, and careers in banking. Standing Stone Bank will teach a seminar on consumer credit.\n\n \nEach seminar will take place in Brasee Hall\, Room BH419\, at 6:00 pm. Refreshments will be provided. A full list of programming can be found below.\n\n \n\nOctober 7\n\nStudent Loans\n\nStudent Loan Programs and Loan Options\; effects of payment deferrals on the loan balance\;  loan payment calculations and repayment terms\; Pell grants and scholarships.
X-ALT-DESC;FMTTYPE=text/html:<span style="font-family: proxima-nova\, Arial\, Verdana\, sans-serif\; font-size: 18px\; background-color: rgb(255\, 255\, 255)\;">Ohio University Lancaster will host a Financial Literacy Seminar Series beginning October 7. The series is sponsored by&nbsp\;</span><a href="https://parknationalbank.com/" style="-webkit-font-smoothing: antialiased\; text-rendering: optimizelegibility\; box-sizing: inherit\; background-color: rgb(255\, 255\, 255)\; font-family: proxima-nova\, Arial\, Verdana\, sans-serif\; color: rgb(0\, 105\, 78)\; font-size: 18px\;">Park National Bank</a><span style="font-family: proxima-nova\, Arial\, Verdana\, sans-serif\; font-size: 18px\; background-color: rgb(255\, 255\, 255)\;">\,&nbsp\;</span><a href="https://www.fairfieldfederal.com/" style="-webkit-font-smoothing: antialiased\; text-rendering: optimizelegibility\; box-sizing: inherit\; background-color: rgb(255\, 255\, 255)\; font-family: proxima-nova\, Arial\, Verdana\, sans-serif\; color: rgb(0\, 105\, 78)\; font-size: 18px\;">Fairfield Federal Savings and Loan</a><span style="font-family: proxima-nova\, Arial\, Verdana\, sans-serif\; font-size: 18px\; background-color: rgb(255\, 255\, 255)\;">&nbsp\;and&nbsp\;</span><a href="https://www.standingstonebank.com/" style="-webkit-font-smoothing: antialiased\; text-rendering: optimizelegibility\; box-sizing: inherit\; background-color: rgb(255\, 255\, 255)\; font-family: proxima-nova\, Arial\, Verdana\, sans-serif\; color: rgb(0\, 105\, 78)\; font-size: 18px\;">Standing Stone Bank</a><span style="font-family: proxima-nova\, Arial\, Verdana\, sans-serif\; font-size: 18px\; background-color: rgb(255\, 255\, 255)\;">. These educational seminars will be free to attend and open to the public.<br />\n<br />\nThe Financial Literacy Seminar Series will cover a wide range of topics. Park National Bank will be teaching how to start a small business\, budgeting basics\, retirement planning\, and stock investing. Fairfield Federal Savings and Loan will share their expertise in buying and selling a home\, mortgage types\, and careers in banking. Standing Stone Bank will teach a seminar on consumer credit.</span><br />\n&nbsp\;\n<p style="-webkit-font-smoothing: antialiased\; text-rendering: optimizelegibility\; box-sizing: inherit\; font-family: proxima-nova\, Arial\, Verdana\, sans-serif\; font-size: 18px\; padding: 0px\; margin: 15px 0px 0px\; line-height: 1.5\; background-color: rgb(255\, 255\, 255)\;">Each seminar will take place in Brasee Hall\, Room BH419\, at 6:00 pm. Refreshments will be provided. A full list of programming can be found below.</p>\n\n<p style="-webkit-font-smoothing: antialiased\; text-rendering: optimizelegibility\; box-sizing: inherit\; font-family: proxima-nova\, Arial\, Verdana\, sans-serif\; font-size: 18px\; padding: 0px\; margin: 15px 0px 0px\; line-height: 1.5\; background-color: rgb(255\, 255\, 255)\;">&nbsp\;</p>\n\n<p style="-webkit-font-smoothing: antialiased\; text-rendering: optimizelegibility\; box-sizing: inherit\; font-family: proxima-nova\, Arial\, Verdana\, sans-serif\; font-size: 18px\; padding: 0px\; margin: 15px 0px 0px\; line-height: 1.5\; background-color: rgb(255\, 255\, 255)\;">October 7<br style="-webkit-font-smoothing: antialiased\; text-rendering: optimizelegibility\; box-sizing: inherit\;" />\n<a href="https://calendar.ohio.edu/event/financial_literacy_seminar_series_-_student_loans_with_time_value_of_money_1865" style="-webkit-font-smoothing: antialiased\; text-rendering: optimizelegibility\; box-sizing: inherit\; background-color: transparent\; color: rgb(0\, 105\, 78)\;">Student Loans</a></p>\n\n<p style="-webkit-font-smoothing: antialiased\; text-rendering: optimizelegibility\; box-sizing: inherit\; font-family: proxima-nova\, Arial\, Verdana\, sans-serif\; font-size: 18px\; padding: 0px\; margin: 15px 0px 0px\; line-height: 1.5\; background-color: rgb(255\, 255\, 255)\;">Student Loan Programs and Loan Options\; effects of payment deferrals on the loan balance\;&nbsp\; loan payment calculations and repayment terms\; Pell grants and scholarships.</p>\n
LOCATION:Ohio University Lancaster Brasee Hall Room BH419
UID:e.1451.15473
SEQUENCE:3
DTSTAMP:20260424T031031Z
URL:https://business.pickeringtonchamber.com/events/details/oul-financial-literacy-series-student-loans-15473
END:VEVENT

END:VCALENDAR
