BEGIN:VCALENDAR
VERSION:2.0
PRODID:-//ChamberMaster//Event Calendar 2.0//EN
METHOD:PUBLISH
X-PUBLISHED-TTL:P3D
REFRESH-INTERVAL:P3D
CALSCALE:GREGORIAN
BEGIN:VEVENT
DTSTART:20191206T220000Z
DTEND:20191207T010000Z
X-MICROSOFT-CDO-ALLDAYEVENT:FALSE
SUMMARY:Olde Village Holiday Gathering
DESCRIPTION:Pickerington Holiday Gathering\n\n\n	Friday\, December 6\, 2019\n	5:00 PM  8:00 PM\n	Google Calendar  ICS\n\n\n\n\n\n\n\n\nLocation: W Columbus St and various locations around the Village\n\nSponsor: Pickerington Village Association (PVA)\n\nContact: Peggy Portier | 614-595-5867\n\n\n\nFamily friendly event with activities all around the Pickerington Village. Many participating businesses provided a place to warm up and offering free activities and treats.\n\nHorse-drawn wagon rides\n\nCirculating hop-on/hop-off trolley\n\nIce carving demonstrations\n\nChildren's games and holiday stories\n\nVISIT WITH SANTA (Take your own photo for free or have one taken for a $5 donation)\n\nCookie decorating for kids\n\nLighting the Festival of Lights at the Food Pantry 6:00\n\nCity Tree Lighting at the Gazebo 7:00\n\nPet a LIVE reindeer\n\nTrain rides for kids on our mini train\n\nStrolling carolers\n\nLIVE Nativity\n\nComplimentary popcorn & hot chocolate\n\nIndoor Holiday Gift Market\n\nShops\, restaurants and the Historical Society Museum will be open
X-ALT-DESC;FMTTYPE=text/html:<h1 class="eventlist-title" style="font-family: &quot\;Source Sans Pro&quot\;\; font-weight: 300\; letter-spacing: 1px\; color: rgba(38\, 51\, 51\, 0.9)\; margin: 0px 0px 17px !important\; line-height: 1.2em !important\; font-size: 28px !important\; padding: 0px !important\;"><a class="eventlist-title-link" href="https://www.pickeringtonvillage.com/events/2019/5/11/pickerington-village-mayfest-craft-bazaar-amp-chocolate-hop-cw4sr" style="cursor: default\; pointer-events: none\; text-decoration-line: none !important\; margin: 0px !important\; padding: 0px !important\; font-size: inherit !important\; line-height: inherit !important\;">Pickerington Holiday Gathering</a></h1>\n\n<ul class="eventlist-meta event-meta" style="margin: 0px 0px 17px\; padding: 0px\; font-family: &quot\;Source Sans Pro&quot\;\; line-height: 1.6em\; font-size: 16px\; list-style-type: none\;">\n	<li class="eventlist-meta-item eventlist-meta-date event-meta-item" style="margin: 0px\; padding: 0px\; text-align: left\;"><time class="event-date" datetime="2019-12-06">Friday\, December 6\, 2019</time></li>\n	<li class="eventlist-meta-item eventlist-meta-time event-meta-item" style="margin: 0px\; padding: 0px\; text-align: left\;"><span class="event-time-12hr"><time class="event-time-12hr-start" datetime="2019-12-06">5:00 PM</time>&nbsp\;&nbsp\;<time class="event-time-12hr-end" datetime="2019-12-06">8:00 PM</time></span></li>\n	<li class="eventlist-meta-item eventlist-meta-export event-meta-item" style="margin: 0px\; padding: 0px\; text-align: left\;"><a class="eventlist-meta-export-google" href="http://www.google.com/calendar/event?action=TEMPLATE&amp\;text=Pickerington+Holiday+Gathering&amp\;dates=20191206T220000Z/20191207T010000Z" style="color: rgb(121\, 72\, 156)\; text-decoration-line: none\;">Google Calendar</a>&nbsp\;&nbsp\;<a class="eventlist-meta-export-ical" href="https://www.pickeringtonvillage.com/events/2019/5/11/pickerington-village-mayfest-craft-bazaar-amp-chocolate-hop-cw4sr?format=ical" style="color: rgb(121\, 72\, 156)\; text-decoration-line: none\;">ICS</a></li>\n</ul>\n\n<div class="eventlist-description">\n<div class="sqs-layout sqs-grid-12 columns-12" data-layout-label="Post Body" data-type="item" data-updated-on="1548650620383" id="item-5c4e4e9e88251b8420afef39">\n<div class="row sqs-row" style="width: auto !important\; margin-left: -17px\; margin-right: -17px\;">\n<div class="col sqs-col-12 span-12" style="float: left\; width: 715px\; padding-right: 0px\;">\n<div class="sqs-block html-block sqs-block-html" data-block-type="2" id="block-d80dfad0f5e10611e501" style="position: relative\; height: auto\; padding: 0px 17px 17px\; outline: none\; box-shadow: rgba(128\, 128\, 128\, 0) 0px 0px 0px 1px inset\; transition: box-shadow 0.2s ease-in-out 0s\; clear: none\;">\n<div class="sqs-block-content" style="outline: none\;">\n<p style="font-family: &quot\;Source Sans Pro&quot\;\; line-height: 1.6em\; font-size: 16px\; margin: 0px 0px 1.6em\; overflow-wrap: break-word\; color: rgb(38\, 51\, 51)\; background-color: rgb(240\, 244\, 244)\; white-space: pre-wrap\;"><strong style="overflow-wrap: break-word\;">Location:</strong>&nbsp\;W Columbus St and various locations around the Village<br style="overflow-wrap: break-word\;" />\n<strong style="overflow-wrap: break-word\;">Sponsor:</strong>&nbsp\;Pickerington Village Association (PVA)<br style="overflow-wrap: break-word\;" />\n<strong style="overflow-wrap: break-word\;">Contact:</strong>&nbsp\;Peggy Portier | <a href="tel:6145955867" style="color: rgb(121\, 72\, 156)\; text-decoration-line: none\; overflow-wrap: break-word\;">614-595-5867</a><br style="overflow-wrap: break-word\;" />\n<br style="overflow-wrap: break-word\;" />\nFamily friendly event with activities all around the Pickerington Village. Many participating businesses provided a place to warm up and offering free activities and treats.<br style="overflow-wrap: break-word\;" />\nHorse-drawn wagon rides<br style="overflow-wrap: break-word\;" />\nCirculating hop-on/hop-off trolley<br style="overflow-wrap: break-word\;" />\nIce carving demonstrations<br style="overflow-wrap: break-word\;" />\nChildren&rsquo\;s games and holiday stories<br style="overflow-wrap: break-word\;" />\nVISIT WITH SANTA (Take your own photo for free or have one taken for a $5 donation)<br style="overflow-wrap: break-word\;" />\nCookie decorating for kids<br style="overflow-wrap: break-word\;" />\nLighting the Festival of Lights at the Food Pantry 6:00<br style="overflow-wrap: break-word\;" />\nCity Tree Lighting at the Gazebo 7:00<br style="overflow-wrap: break-word\;" />\nPet a LIVE reindeer<br style="overflow-wrap: break-word\;" />\nTrain rides for kids on our mini train<br style="overflow-wrap: break-word\;" />\nStrolling carolers<br style="overflow-wrap: break-word\;" />\nLIVE Nativity<br style="overflow-wrap: break-word\;" />\nComplimentary popcorn &amp\; hot chocolate<br style="overflow-wrap: break-word\;" />\nIndoor Holiday Gift Market<br style="overflow-wrap: break-word\;" />\nShops\, restaurants and the Historical Society Museum will be open</p>\n\n<div>&nbsp\;</div>\n</div>\n</div>\n</div>\n</div>\n</div>\n</div>\n
LOCATION:Columbus & Center Streets Pickerington
UID:e.1451.12709
SEQUENCE:3
DTSTAMP:20260425T140851Z
URL:https://business.pickeringtonchamber.com/events/details/olde-village-holiday-gathering-12709
END:VEVENT

END:VCALENDAR
