BEGIN:VCALENDAR
VERSION:2.0
PRODID:-//ChamberMaster//Event Calendar 2.0//EN
METHOD:PUBLISH
X-PUBLISHED-TTL:P3D
REFRESH-INTERVAL:P3D
CALSCALE:GREGORIAN
BEGIN:VEVENT
DTSTART:20190921T160000Z
DTEND:20190922T020000Z
X-MICROSOFT-CDO-ALLDAYEVENT:FALSE
SUMMARY:Oktoberfest
DESCRIPTION:Pickerington Oktoberfest\n\n\n	Saturday\, September 21\, 2019\n	12:00 PM  10:00 PM\n	Google Calendar  ICS\n\n\n\n\n\n\n\n\nLocation: Combustion Brewery Parking Lot\, 80 West Church Street\n\nContact: Pickerington Village Association\, 614-321-8221\n\nTraditional German Oktoberfest celebration. Several different brews on tap\, local wines\, food vendors\, live music on an outdoor stage all day. This event is a fundraiser for local charities. Are you 21 years old?  You can volunteer and earn money for a charity you pick.\n\nMAP IT!
X-ALT-DESC;FMTTYPE=text/html:<h1 class="eventlist-title" id="yui_3_17_2_1_1550255660968_5588" style="font-family: &quot\;Source Sans Pro&quot\;\; font-weight: 300\; letter-spacing: 1px\; color: rgba(38\, 51\, 51\, 0.9)\; background-color: rgb(240\, 244\, 244)\; margin: 0px 0px 17px !important\; line-height: 1.2em !important\; font-size: 28px !important\; padding: 0px !important\;"><a class="eventlist-title-link" href="https://www.pickeringtonvillage.com/events/2019/9/21/pickerington-oktoberfest" style="cursor: default\; pointer-events: none\; text-decoration-line: none !important\; margin: 0px !important\; padding: 0px !important\; font-size: inherit !important\; line-height: inherit !important\;">Pickerington Oktoberfest</a></h1>\n\n<ul class="eventlist-meta event-meta" style="margin: 0px 0px 17px\; padding: 0px\; font-family: &quot\;Source Sans Pro&quot\;\; line-height: 1.6em\; font-size: 16px\; list-style-type: none\; color: rgb(38\, 51\, 51)\; background-color: rgb(240\, 244\, 244)\;">\n	<li class="eventlist-meta-item eventlist-meta-date event-meta-item" style="margin: 0px\; padding: 0px\; text-align: left\;"><time class="event-date" datetime="2019-09-21">Saturday\, September 21\, 2019</time></li>\n	<li class="eventlist-meta-item eventlist-meta-time event-meta-item" style="margin: 0px\; padding: 0px\; text-align: left\;"><span class="event-time-12hr"><time class="event-time-12hr-start" datetime="2019-09-21">12:00 PM</time>&nbsp\;&nbsp\;<time class="event-time-12hr-end" datetime="2019-09-21">10:00 PM</time></span></li>\n	<li class="eventlist-meta-item eventlist-meta-export event-meta-item" style="margin: 0px\; padding: 0px\; text-align: left\;"><a class="eventlist-meta-export-google" href="http://www.google.com/calendar/event?action=TEMPLATE&amp\;text=Pickerington+Oktoberfest&amp\;dates=20190921T160000Z/20190922T020000Z" style="color: rgb(121\, 72\, 156)\; text-decoration-line: none\;">Google Calendar</a>&nbsp\;&nbsp\;<a class="eventlist-meta-export-ical" href="https://www.pickeringtonvillage.com/events/2019/9/21/pickerington-oktoberfest?format=ical" style="color: rgb(121\, 72\, 156)\; text-decoration-line: none\;">ICS</a></li>\n</ul>\n\n<div class="eventlist-description" style="color: rgb(38\, 51\, 51)\; font-family: &quot\;Source Sans Pro&quot\;\; font-size: 16px\; background-color: rgb(240\, 244\, 244)\;">\n<div class="sqs-layout sqs-grid-12 columns-12" data-layout-label="Post Body" data-type="item" data-updated-on="1538019769508" id="item-5bac5034f4e1fc46b2e63114">\n<div class="row sqs-row" style="width: auto !important\; margin-left: -17px\; margin-right: -17px\;">\n<div class="col sqs-col-12 span-12" style="float: left\; width: 715px\; padding-right: 0px\;">\n<div class="sqs-block html-block sqs-block-html" data-block-type="2" id="block-b06f8cface82013118ee" style="position: relative\; height: auto\; padding: 0px 17px 17px\; outline: none\; box-shadow: rgba(128\, 128\, 128\, 0) 0px 0px 0px 1px inset\; transition: box-shadow 0.2s ease-in-out 0s\; clear: none\;">\n<div class="sqs-block-content" style="outline: none\;">\n<p style="line-height: 1.6em\; margin: 0px 0px 1.6em\; overflow-wrap: break-word\; white-space: pre-wrap\;"><strong style="overflow-wrap: break-word\;">Location:<em style="overflow-wrap: break-word\;">&nbsp\;</em></strong>Combustion Brewery Parking Lot\, <a href="https://goo.gl/maps/ZetiSCGHkx92" style="color: rgb(121\, 72\, 156)\; text-decoration-line: none\; overflow-wrap: break-word\;" target="_blank">80 West Church Street</a><br style="overflow-wrap: break-word\;" />\n<strong style="overflow-wrap: break-word\;">Contact:<em style="overflow-wrap: break-word\;">&nbsp\;</em></strong>Pickerington Village Association\, <a href="tel:6143218221" style="color: rgb(121\, 72\, 156)\; text-decoration-line: none\; overflow-wrap: break-word\;">614-321-8221</a></p>\n\n<p style="line-height: 1.6em\; margin: 0px 0px 1.6em\; overflow-wrap: break-word\; white-space: pre-wrap\;">Traditional German Oktoberfest celebration. Several different brews on tap\, local wines\, food vendors\, live music on an outdoor stage all day. This event is a fundraiser for local charities. Are you 21 years old?&nbsp\; You can volunteer and earn money for a charity you pick.</p>\n\n<p style="line-height: 1.6em\; margin: 0px\; overflow-wrap: break-word\; white-space: pre-wrap\;"><a href="https://goo.gl/maps/ZetiSCGHkx92" style="color: rgb(121\, 72\, 156)\; text-decoration-line: none\; overflow-wrap: break-word\;" target="_blank">MAP IT!</a></p>\n</div>\n</div>\n</div>\n</div>\n</div>\n</div>\n
LOCATION:Combustion Brewery Parking Lot 80 W. Church St. Pickerington\, OH 43147
UID:e.1451.12708
SEQUENCE:3
DTSTAMP:20260425T191108Z
URL:https://business.pickeringtonchamber.com/events/details/oktoberfest-12708
END:VEVENT

END:VCALENDAR
