BEGIN:VCALENDAR
VERSION:2.0
PRODID:-//ChamberMaster//Event Calendar 2.0//EN
METHOD:PUBLISH
X-PUBLISHED-TTL:P3D
REFRESH-INTERVAL:P3D
CALSCALE:GREGORIAN
BEGIN:VEVENT
DTSTART:20190721T180000Z
DTEND:20190804T180000Z
X-MICROSOFT-CDO-ALLDAYEVENT:FALSE
SUMMARY:Ohio University Lancaster Theatre presents "Legally Blonde The Musical!"
DESCRIPTION:"A fabulously fun award-winning musical based on the adored movie\, "Legally Blonde\, The Musical\," follows the transformation of Elle Woods as she tackles stereotypes and scandal in pursuit of her dreams. Action-packed and exploding with memorable songs and dynamic dances - this musical is so much fun\, it should be illegal! Elle Woods appears to have it all. Her life is turned upside down when her boyfriend Warner dumps her so he can attend Harvard Law. Determined to get him back\, Elle ingeniously charms her way into the prestigious law school. While there\, she struggles with peers\, professors and her ex. With the support of some new friends\, though\, Elle quickly realizes her potential and sets out to prove herself to the world." "Legally Blonde The Musical" is presented through special arrangement with Music Theatre International (MTI). All authorized performance materials are also supplied by MTI.
X-ALT-DESC;FMTTYPE=text/html:<br />\n&quot\;A fabulously fun award-winning musical based on the adored movie\, &ldquo\;Legally Blonde\, The Musical\,&rdquo\; follows the transformation of Elle Woods as she tackles stereotypes and scandal in pursuit of her dreams. Action-packed and exploding with memorable songs and dynamic dances - this musical is so much fun\, it should be illegal! Elle Woods appears to have it all. Her life is turned upside down when her boyfriend Warner dumps her so he can attend Harvard Law. Determined to get him back\, Elle ingeniously charms her way into the prestigious law school. While there\, she struggles with peers\, professors and her ex. With the support of some new friends\, though\, Elle quickly realizes her potential and sets out to prove herself to the world.&quot\; &quot\;Legally Blonde The Musical&quot\; is presented through special arrangement with Music Theatre International (MTI). All authorized performance materials are also supplied by MTI.
LOCATION:Ohio University Lancaster Theatre 1570 Granville Pike\, Lancaster Ohio 43130
UID:e.1451.13416
SEQUENCE:3
DTSTAMP:20260425T205254Z
URL:https://business.pickeringtonchamber.com/events/details/ohio-university-lancaster-theatre-presents-legally-blonde-the-musical-13416
END:VEVENT

END:VCALENDAR
