BEGIN:VCALENDAR
VERSION:2.0
PRODID:-//ChamberMaster//Event Calendar 2.0//EN
METHOD:PUBLISH
X-PUBLISHED-TTL:P3D
REFRESH-INTERVAL:P3D
CALSCALE:GREGORIAN
BEGIN:VEVENT
DTSTART:20210504T180000Z
DTEND:20210504T200000Z
X-MICROSOFT-CDO-ALLDAYEVENT:FALSE
SUMMARY:Ohio SBDC Webinar- Quickbooks
DESCRIPTION:The objective of this training is for the participants to gain an understanding of QuickBooks and be able to use the software to: -Track Inventory -Understand Statements -Bank Reconciliations -Other Bells & Whistles
X-ALT-DESC;FMTTYPE=text/html:<span style="font-family: Arial\, Helvetica\, sans-serif\; font-size: 12px\; background-color: rgb(246\, 246\, 246)\;">The objective of this training is for the participants to gain an understanding of QuickBooks and be able to use the software to: -Track Inventory -Understand Statements -Bank Reconciliations -Other Bells &amp\; Whistles</span>
LOCATION:Virtual
UID:e.1451.15029
SEQUENCE:3
DTSTAMP:20260424T110637Z
URL:https://business.pickeringtonchamber.com/events/details/ohio-sbdc-webinar-quickbooks-15029
END:VEVENT

END:VCALENDAR
