BEGIN:VCALENDAR
VERSION:2.0
PRODID:-//ChamberMaster//Event Calendar 2.0//EN
METHOD:PUBLISH
X-PUBLISHED-TTL:P3D
REFRESH-INTERVAL:P3D
CALSCALE:GREGORIAN
BEGIN:VEVENT
DTSTART:20210503T140000Z
DTEND:20210503T153000Z
X-MICROSOFT-CDO-ALLDAYEVENT:FALSE
SUMMARY:Ohio SBDC Webinar- Managing Change
DESCRIPTION:Managing change in the work place from both a managerial & a personal perspective. The Managerial area will include dealing with issues relative to changing markets\, business goals and culture\, technologies\, work environments\, & workforce dynamics (including gender\, generations\, and ethnicity).
X-ALT-DESC;FMTTYPE=text/html:<br />\n<span style="font-size:16px\;"><span style="color: rgb(51\, 51\, 51)\; font-family: Arial\, Helvetica\, sans-serif\; background-color: rgb(246\, 246\, 246)\;">Managing change in the work place from both a managerial &amp\; a personal perspective. The Managerial area will include dealing with issues relative to changing markets\, business goals and culture\, technologies\, work environments\, &amp\; workforce dynamics (including gender\, generations\, and ethnicity).</span></span>
LOCATION:Virtual
UID:e.1451.15027
SEQUENCE:3
DTSTAMP:20260424T124347Z
URL:https://business.pickeringtonchamber.com/events/details/ohio-sbdc-webinar-managing-change-15027
END:VEVENT

END:VCALENDAR
