BEGIN:VCALENDAR
VERSION:2.0
PRODID:-//ChamberMaster//Event Calendar 2.0//EN
METHOD:PUBLISH
X-PUBLISHED-TTL:P3D
REFRESH-INTERVAL:P3D
CALSCALE:GREGORIAN
BEGIN:VEVENT
DTSTART:20210512T130000Z
DTEND:20210512T150000Z
X-MICROSOFT-CDO-ALLDAYEVENT:FALSE
SUMMARY:Ohio SBDC Webinar- Facebook & Instagram Shops
DESCRIPTION:Learn if your business is right for a Facebook & Instagram shop\, how to set up a catalog to start selling & track your progress. If you want to set up a Shop\, this is the class for you!
X-ALT-DESC;FMTTYPE=text/html:<span style="font-family: Arial\, Helvetica\, sans-serif\; font-size: 12px\; background-color: rgb(246\, 246\, 246)\;">Learn if your business is right for a Facebook &amp\; Instagram shop\, how to set up a catalog to start selling &amp\; track your progress. If you want to set up a Shop\, this is the class for you!</span>
LOCATION:Virtual
UID:e.1451.15035
SEQUENCE:3
DTSTAMP:20260424T124127Z
URL:https://business.pickeringtonchamber.com/events/details/ohio-sbdc-webinar-facebook-instagram-shops-15035
END:VEVENT

END:VCALENDAR
