BEGIN:VCALENDAR
VERSION:2.0
PRODID:-//ChamberMaster//Event Calendar 2.0//EN
METHOD:PUBLISH
X-PUBLISHED-TTL:P3D
REFRESH-INTERVAL:P3D
CALSCALE:GREGORIAN
BEGIN:VEVENT
DTSTART:20210526T130000Z
DTEND:20210526T150000Z
X-MICROSOFT-CDO-ALLDAYEVENT:FALSE
SUMMARY:Ohio SBDC Webinar- Facebook Ads
DESCRIPTION:Learn all the tricks that you will need to successfully market your business via Facebook. This class is the second step to the very popular Facebook Ads course. Walk-through how to set up successful ads\, explore analytics & learn how to scale ads to get the most out of your advertising dollars!
X-ALT-DESC;FMTTYPE=text/html:<span style="font-family: Arial\, Helvetica\, sans-serif\; font-size: 12px\; background-color: rgb(246\, 246\, 246)\;">Learn all the tricks that you will need to successfully market your business via Facebook. This class is the second step to the very popular Facebook Ads course. Walk-through how to set up successful ads\, explore analytics &amp\; learn how to scale ads to get the most out of your advertising dollars!</span>
LOCATION:Virtual
UID:e.1451.15038
SEQUENCE:3
DTSTAMP:20260424T124251Z
URL:https://business.pickeringtonchamber.com/events/details/ohio-sbdc-webinar-facebook-ads-15038
END:VEVENT

END:VCALENDAR
