BEGIN:VCALENDAR
VERSION:2.0
PRODID:-//ChamberMaster//Event Calendar 2.0//EN
METHOD:PUBLISH
X-PUBLISHED-TTL:P3D
REFRESH-INTERVAL:P3D
CALSCALE:GREGORIAN
BEGIN:VEVENT
DTSTART:20210510T130000Z
DTEND:20210510T140000Z
X-MICROSOFT-CDO-ALLDAYEVENT:FALSE
SUMMARY:Ohio SBDC Webinar - Effective Sales Teams
DESCRIPTION:There are consistent behaviors & habits that successful sales companies use day in & day out\, year after year to achieve their goals. The 7 Habits of Highly Effective Sales Teams is a powerful workshop that will provide specific & proven best practices that business owners can implement with their team immediately.
X-ALT-DESC;FMTTYPE=text/html:<span style="font-family: Arial\, Helvetica\, sans-serif\; font-size: 12px\; background-color: rgb(246\, 246\, 246)\;">There are consistent behaviors &amp\; habits that successful sales companies use day in &amp\; day out\, year after year to achieve their goals. The 7 Habits of Highly Effective Sales Teams is a powerful workshop that will provide specific &amp\; proven best practices that business owners can implement with their team immediately.</span>
LOCATION:Virtual
UID:e.1451.15032
SEQUENCE:3
DTSTAMP:20260424T111845Z
URL:https://business.pickeringtonchamber.com/events/details/ohio-sbdc-webinar-effective-sales-teams-15032
END:VEVENT

END:VCALENDAR
